BEGIN:VCALENDAR
VERSION:2.0
PRODID:itakvim.com
CALSCALE:GREGORIAN
METHOD:PUBLISH
UID:j2vmjnhvfob
X-WR-CALNAME:Elazığ Ahmet Tevfik Ozan Fuar Ve Kongre Merkezi Takvimi
X-ITAKVIM-LANGUAGE:tr
X-ORIGINAL-URL:itakvim.com
REFRESH-INTERVAL;VALUE=DURATION:PT1H
X-ITAKVIM-REGION:TR
X-Robots-Tag:noindex
X-PUBLISHED-TTL:PT1H
BEGIN:VEVENT
UID:e3b1f68b-24c7-442d-59c5-08de9f8ee600
DTSTAMP:20260421T101545Z
TRANSP:TRANSPARENT
DTSTART:20260206T060000Z
DTEND:20260208T150000Z
STATUS:CONFIRMED
SUMMARY:Elazığ Tso Genel Ticaret Fuarı
DESCRIPTION:Anatolia Fuar Anonim Şirketi tarafından düzenlenen genel t
 icaret konulu fuarda görüşmek üzere: \n\nWeb:www.anatoliagrup.com.tr
 \nE-Posta: info@anatoliagrup.com.tr
LOCATION:Ahmet Tevfik Ozan Fuar Ve Kongre Merkezi
BEGIN:VALARM
ACTION:DISPLAY
DESCRIPTION:Elazığ Tso Genel Ticaret Fuarı
TRIGGER:-PT24H
END:VALARM
END:VEVENT
END:VCALENDAR
