BEGIN:VCALENDAR
VERSION:2.0
PRODID:itakvim.com
CALSCALE:GREGORIAN
METHOD:PUBLISH
UID:j35cjz0m6or
X-WR-CALNAME:e-TEP Sınav Takvimi
X-ITAKVIM-LANGUAGE:tr
X-ORIGINAL-URL:itakvim.com
REFRESH-INTERVAL;VALUE=DURATION:PT1H
X-ITAKVIM-REGION:TR
X-Robots-Tag:noindex
X-PUBLISHED-TTL:PT1H
BEGIN:VEVENT
UID:c5ecf218-9bf0-4e50-4f5e-08de9f183112
DTSTAMP:20260420T200538Z
TRANSP:TRANSPARENT
DTSTART:20260131T104500Z
DTEND:20260131T104500Z
STATUS:CONFIRMED
SUMMARY:e-TEP Elektronik İngilizce Yeterlik Sınavı/Electronic-Test of 
 English Proficiency (e-TEP 2026/1 İngilizce) ******* Sınav
END:VEVENT
BEGIN:VEVENT
UID:66bf3aee-8015-4f06-4f5f-08de9f183112
DTSTAMP:20260420T200538Z
TRANSP:TRANSPARENT
DTSTART:20260114T110000Z
DTEND:20260114T110000Z
STATUS:CONFIRMED
SUMMARY:e-TEP Elektronik İngilizce Yeterlik Sınavı/Electronic-Test of 
 English Proficiency (e-TEP 2026/1 İngilizce) ******* Başvuru Başlang
 ıç
END:VEVENT
BEGIN:VEVENT
UID:1341b586-ebf3-4ed9-4f60-08de9f183112
DTSTAMP:20260420T200538Z
TRANSP:TRANSPARENT
DTSTART:20260122T205900Z
DTEND:20260122T205900Z
STATUS:CONFIRMED
SUMMARY:e-TEP Elektronik İngilizce Yeterlik Sınavı/Electronic-Test of 
 English Proficiency (e-TEP 2026/1 İngilizce) ******* Başvuru Bitiş
END:VEVENT
BEGIN:VEVENT
UID:7791f4dd-b31a-4a4c-4f61-08de9f183112
DTSTAMP:20260420T200538Z
TRANSP:TRANSPARENT
DTSTART:20260226T210000Z
DTEND:20260226T210000Z
STATUS:CONFIRMED
SUMMARY:e-TEP Elektronik İngilizce Yeterlik Sınavı/Electronic-Test of 
 English Proficiency (e-TEP 2026/1 İngilizce) ******* Sonuç
END:VEVENT
BEGIN:VEVENT
UID:8f0070f2-612c-407a-4f62-08de9f183112
DTSTAMP:20260420T200538Z
TRANSP:TRANSPARENT
DTSTART:20260425T104500Z
DTEND:20260425T104500Z
STATUS:CONFIRMED
SUMMARY:e-TEP Elektronik İngilizce Yeterlik Sınavı/Electronic-Test of 
 English Proficiency (e-TEP 2026/2 İngilizce) ******* Sınav
END:VEVENT
BEGIN:VEVENT
UID:512ce960-62f4-4653-4f63-08de9f183112
DTSTAMP:20260420T200538Z
TRANSP:TRANSPARENT
DTSTART:20260407T110000Z
DTEND:20260407T110000Z
STATUS:CONFIRMED
SUMMARY:e-TEP Elektronik İngilizce Yeterlik Sınavı/Electronic-Test of 
 English Proficiency (e-TEP 2026/2 İngilizce) ******* Başvuru Başlang
 ıç
END:VEVENT
BEGIN:VEVENT
UID:78c59c15-21fe-4e03-4f64-08de9f183112
DTSTAMP:20260420T200538Z
TRANSP:TRANSPARENT
DTSTART:20260415T205900Z
DTEND:20260415T205900Z
STATUS:CONFIRMED
SUMMARY:e-TEP Elektronik İngilizce Yeterlik Sınavı/Electronic-Test of 
 English Proficiency (e-TEP 2026/2 İngilizce) ******* Başvuru Bitiş
END:VEVENT
BEGIN:VEVENT
UID:80cdc77b-b190-4761-4f65-08de9f183112
DTSTAMP:20260420T200538Z
TRANSP:TRANSPARENT
DTSTART:20260521T210000Z
DTEND:20260521T210000Z
STATUS:CONFIRMED
SUMMARY:e-TEP Elektronik İngilizce Yeterlik Sınavı/Electronic-Test of 
 English Proficiency (e-TEP 2026/2 İngilizce) ******* Sonuç
END:VEVENT
BEGIN:VEVENT
UID:33735c78-4571-475a-4f66-08de9f183112
DTSTAMP:20260420T200538Z
TRANSP:TRANSPARENT
DTSTART:20260717T210000Z
DTEND:20260717T210000Z
STATUS:CONFIRMED
SUMMARY:e-TEP Elektronik İngilizce Yeterlik Sınavı/Electronic-Test of 
 English Proficiency (e-TEP 2026/3 İngilizce) ******* Sınav
END:VEVENT
BEGIN:VEVENT
UID:ed573439-c224-441d-4f67-08de9f183112
DTSTAMP:20260420T200538Z
TRANSP:TRANSPARENT
DTSTART:20260630T210000Z
DTEND:20260630T210000Z
STATUS:CONFIRMED
SUMMARY:e-TEP Elektronik İngilizce Yeterlik Sınavı/Electronic-Test of 
 English Proficiency (e-TEP 2026/3 İngilizce) ******* Başvuru Başlang
 ıç
END:VEVENT
BEGIN:VEVENT
UID:fbcfcf4d-819d-4dfd-4f68-08de9f183112
DTSTAMP:20260420T200538Z
TRANSP:TRANSPARENT
DTSTART:20260708T210000Z
DTEND:20260708T210000Z
STATUS:CONFIRMED
SUMMARY:e-TEP Elektronik İngilizce Yeterlik Sınavı/Electronic-Test of 
 English Proficiency (e-TEP 2026/3 İngilizce) ******* Başvuru Bitiş
END:VEVENT
BEGIN:VEVENT
UID:7d911777-b8cc-4012-4f69-08de9f183112
DTSTAMP:20260420T200538Z
TRANSP:TRANSPARENT
DTSTART:20260817T210000Z
DTEND:20260817T210000Z
STATUS:CONFIRMED
SUMMARY:e-TEP Elektronik İngilizce Yeterlik Sınavı/Electronic-Test of 
 English Proficiency (e-TEP 2026/3 İngilizce) ******* Sonuç
END:VEVENT
BEGIN:VEVENT
UID:a5b04a9f-6a2d-40ca-4f6a-08de9f183112
DTSTAMP:20260420T200538Z
TRANSP:TRANSPARENT
DTSTART:20261113T210000Z
DTEND:20261113T210000Z
STATUS:CONFIRMED
SUMMARY:e-TEP Elektronik İngilizce Yeterlik Sınavı/Electronic-Test of 
 English Proficiency (e-TEP 2026/4 İngilizce) ******* Sınav
END:VEVENT
BEGIN:VEVENT
UID:67691c45-60eb-4fa7-4f6b-08de9f183112
DTSTAMP:20260420T200538Z
TRANSP:TRANSPARENT
DTSTART:20261026T210000Z
DTEND:20261026T210000Z
STATUS:CONFIRMED
SUMMARY:e-TEP Elektronik İngilizce Yeterlik Sınavı/Electronic-Test of 
 English Proficiency (e-TEP 2026/4 İngilizce) ******* Başvuru Başlang
 ıç
END:VEVENT
BEGIN:VEVENT
UID:abca63ae-9556-4fd3-4f6c-08de9f183112
DTSTAMP:20260420T200538Z
TRANSP:TRANSPARENT
DTSTART:20261104T210000Z
DTEND:20261104T210000Z
STATUS:CONFIRMED
SUMMARY:e-TEP Elektronik İngilizce Yeterlik Sınavı/Electronic-Test of 
 English Proficiency (e-TEP 2026/4 İngilizce) ******* Başvuru Bitiş
END:VEVENT
BEGIN:VEVENT
UID:66773664-fa64-46d8-4f6d-08de9f183112
DTSTAMP:20260420T200538Z
TRANSP:TRANSPARENT
DTSTART:20261210T210000Z
DTEND:20261210T210000Z
STATUS:CONFIRMED
SUMMARY:e-TEP Elektronik İngilizce Yeterlik Sınavı/Electronic-Test of 
 English Proficiency (e-TEP 2026/4 İngilizce) ******* Sonuç
END:VEVENT
END:VCALENDAR
