BEGIN:VCALENDAR
VERSION:2.0
PRODID:itakvim.com
CALSCALE:GREGORIAN
METHOD:PUBLISH
UID:j9g1farhl06
X-WR-CALNAME:Sheraton Grand Adana Hotel Takvimi
X-ITAKVIM-LANGUAGE:tr
X-ORIGINAL-URL:itakvim.com
REFRESH-INTERVAL;VALUE=DURATION:PT1H
X-ITAKVIM-REGION:TR
X-Robots-Tag:noindex
X-PUBLISHED-TTL:PT1H
BEGIN:VEVENT
UID:54197724-bbbf-4705-59c6-08de9f8ee600
DTSTAMP:20260421T101546Z
TRANSP:TRANSPARENT
DTSTART:20260724T060000Z
DTEND:20260724T150000Z
STATUS:CONFIRMED
SUMMARY:8. Adana Üniversite Tercih Fuarı
DESCRIPTION:Eket Fuarcılık Ticaret Limited Şirketi tarafından düzenl
 enen eğitim \, yüksek öğretim ve üniversite tercihleri konulu fuard
 a görüşmek üzere: \n\nWeb:www.unitercih.com\nE-Posta: info@eket.com.
 tr
LOCATION:Sheraton Grand Adana Hotel
BEGIN:VALARM
ACTION:DISPLAY
DESCRIPTION:8. Adana Üniversite Tercih Fuarı
TRIGGER:-PT24H
END:VALARM
END:VEVENT
END:VCALENDAR
