BEGIN:VCALENDAR
VERSION:2.0
PRODID:itakvim.com
CALSCALE:GREGORIAN
METHOD:PUBLISH
UID:jdn67sbkwmc
X-WR-CALNAME:Aydın Fuar Aydın Takvimin Fuar Aydın Takvimi
X-ITAKVIM-LANGUAGE:tr
X-ORIGINAL-URL:itakvim.com
REFRESH-INTERVAL;VALUE=DURATION:PT1H
X-ITAKVIM-REGION:TR
X-Robots-Tag:noindex
X-PUBLISHED-TTL:PT1H
BEGIN:VEVENT
UID:03b2109f-5115-4abc-721f-08de6facbbe9
DTSTAMP:20260219T114800Z
TRANSP:TRANSPARENT
DTSTART:20260121T060000Z
DTEND:20260125T150000Z
STATUS:CONFIRMED
SUMMARY:Aydın 2026
DESCRIPTION:4M Fuar Organizasyon Hizmetleri Limited Şirketi tarafından 
 düzenlenen evlilik hazırlıkları ve mobilya fuarı konulu fuarda gör
 üşmek üzere: \n\nWeb:WWW.4MFUAR.COM\nE-Posta: info@4mfuar.com
LOCATION:Fuar Aydın
END:VEVENT
END:VCALENDAR
