BEGIN:VCALENDAR
VERSION:2.0
PRODID:itakvim.com
CALSCALE:GREGORIAN
METHOD:PUBLISH
UID:jeebfm43ewx
X-WR-CALNAME:STS Öğretmenlik Sınav Takvimi
X-ITAKVIM-LANGUAGE:tr
X-ORIGINAL-URL:itakvim.com
REFRESH-INTERVAL;VALUE=DURATION:PT1H
X-ITAKVIM-REGION:TR
X-Robots-Tag:noindex
X-PUBLISHED-TTL:PT1H
BEGIN:VEVENT
UID:b1279a04-63b1-48aa-4f6e-08de9f183112
DTSTAMP:20260420T200538Z
TRANSP:TRANSPARENT
DTSTART:20260612T210000Z
DTEND:20260612T210000Z
STATUS:CONFIRMED
SUMMARY:STS Öğretmenlik Öğretmenlik Meslek Bilgisi Alanında Yurt Dı
 şı Yükseköğretim Diploma Denkliği İçin Seviye Tespit Sınavı 20
 26-STS Öğretmenlik Sınav
END:VEVENT
BEGIN:VEVENT
UID:40e0352c-d8af-4a74-4f6f-08de9f183112
DTSTAMP:20260420T200538Z
TRANSP:TRANSPARENT
DTSTART:20260428T210000Z
DTEND:20260428T210000Z
STATUS:CONFIRMED
SUMMARY:STS Öğretmenlik Öğretmenlik Meslek Bilgisi Alanında Yurt Dı
 şı Yükseköğretim Diploma Denkliği İçin Seviye Tespit Sınavı 20
 26-STS Öğretmenlik Başvuru Başlangıç
END:VEVENT
BEGIN:VEVENT
UID:9017469f-de08-4883-4f70-08de9f183112
DTSTAMP:20260420T200538Z
TRANSP:TRANSPARENT
DTSTART:20260505T210000Z
DTEND:20260505T210000Z
STATUS:CONFIRMED
SUMMARY:STS Öğretmenlik Öğretmenlik Meslek Bilgisi Alanında Yurt Dı
 şı Yükseköğretim Diploma Denkliği İçin Seviye Tespit Sınavı 20
 26-STS Öğretmenlik Başvuru Bitiş
END:VEVENT
BEGIN:VEVENT
UID:3df09696-7c32-4132-4f71-08de9f183112
DTSTAMP:20260420T200538Z
TRANSP:TRANSPARENT
DTSTART:20260512T210000Z
DTEND:20260512T210000Z
STATUS:CONFIRMED
SUMMARY:STS Öğretmenlik Öğretmenlik Meslek Bilgisi Alanında Yurt Dı
 şı Yükseköğretim Diploma Denkliği İçin Seviye Tespit Sınavı 20
 26-STS Öğretmenlik Geç Başvuru Başlangıç
END:VEVENT
BEGIN:VEVENT
UID:5822c1e2-5dce-4d46-4f72-08de9f183112
DTSTAMP:20260420T200538Z
TRANSP:TRANSPARENT
DTSTART:20260513T205900Z
DTEND:20260513T205900Z
STATUS:CONFIRMED
SUMMARY:STS Öğretmenlik Öğretmenlik Meslek Bilgisi Alanında Yurt Dı
 şı Yükseköğretim Diploma Denkliği İçin Seviye Tespit Sınavı 20
 26-STS Öğretmenlik Geç Başvuru Bitiş
END:VEVENT
BEGIN:VEVENT
UID:e0ad05e1-3085-42d8-4f73-08de9f183112
DTSTAMP:20260420T200538Z
TRANSP:TRANSPARENT
DTSTART:20260624T210000Z
DTEND:20260624T210000Z
STATUS:CONFIRMED
SUMMARY:STS Öğretmenlik Öğretmenlik Meslek Bilgisi Alanında Yurt Dı
 şı Yükseköğretim Diploma Denkliği İçin Seviye Tespit Sınavı 20
 26-STS Öğretmenlik Sonuç
END:VEVENT
END:VCALENDAR
