BEGIN:VCALENDAR
VERSION:2.0
PRODID:itakvim.com
CALSCALE:GREGORIAN
METHOD:PUBLISH
UID:jgbfyh1y5uk
X-WR-CALNAME:Antalya Konaklı Kültür Merkezi Takvimi
X-ITAKVIM-LANGUAGE:tr
X-ORIGINAL-URL:itakvim.com
REFRESH-INTERVAL;VALUE=DURATION:PT1H
X-ITAKVIM-REGION:TR
X-Robots-Tag:noindex
X-PUBLISHED-TTL:PT1H
BEGIN:VEVENT
UID:a82ec373-430e-45dd-8d16-08de9dec68b5
DTSTAMP:20260419T083022Z
TRANSP:TRANSPARENT
DTSTART:20260120T060000Z
DTEND:20260122T150000Z
STATUS:CONFIRMED
SUMMARY:3. Alanya Otel, Restaurant, Kafe Ekipmanları Fuarı
DESCRIPTION:Başak Fuar Hizmetleri Limited Şirketi tarafından düzenlen
 en otel\, restaurant\, kafe ekipmanları ve teknolojileri konulu fuarda 
 görüşmek üzere: \n\nWeb:www.basakfuar.com\nE-Posta: sedatbozkurt3@gm
 ail.com\; info@basakfuar.com
LOCATION:Konaklı Kültür Merkezi
BEGIN:VALARM
ACTION:DISPLAY
DESCRIPTION:3. Alanya Otel, Restaurant, Kafe Ekipmanları Fuarı
TRIGGER:-PT24H
END:VALARM
END:VEVENT
BEGIN:VEVENT
UID:da9a7727-af25-4747-8d17-08de9dec68b5
DTSTAMP:20260419T083022Z
TRANSP:TRANSPARENT
DTSTART:20260120T060000Z
DTEND:20260122T150000Z
STATUS:CONFIRMED
SUMMARY:3. Alanya Ev Dışı Tüketim Ürünleri, Gıda Ve İçecek Fuar
 ı
DESCRIPTION:Başak Fuar Hizmetleri Limited Şirketi tarafından düzenlen
 en ev dışı tüketim ürünleri\, gıda ve İçecek ürünleri konulu 
 fuarda görüşmek üzere: \n\nWeb:www.basakfuar.com\nE-Posta: sedatbozk
 urt3@gmail.com\; info@basakfuar.com
LOCATION:Konaklı Kültür Merkezi
BEGIN:VALARM
ACTION:DISPLAY
DESCRIPTION:3. Alanya Ev Dışı Tüketim Ürünleri, Gıda Ve İçecek F
 uarı
TRIGGER:-PT24H
END:VALARM
END:VEVENT
END:VCALENDAR
