BEGIN:VCALENDAR
VERSION:2.0
PRODID:itakvim.com
CALSCALE:GREGORIAN
METHOD:PUBLISH
UID:jgt8pargwp3
X-WR-CALNAME:Fatih Karagümrük A.Ş.
X-ITAKVIM-LANGUAGE:tr
X-ORIGINAL-URL:itakvim.com
REFRESH-INTERVAL;VALUE=DURATION:PT1H
X-ITAKVIM-REGION:TR
X-Robots-Tag:noindex
X-PUBLISHED-TTL:PT1H
BEGIN:VEVENT
UID:95d23d0b-69f9-4e66-f1fe-08de803bfc4d
DTSTAMP:20260312T134544Z
TRANSP:TRANSPARENT
DTSTART:20250815T183000Z
DTEND:20250815T200000Z
STATUS:CONFIRMED
SUMMARY:GALATASARAY A.Ş. - FATİH KARAGÜMRÜK A.Ş.
LOCATION:ALİ SAMİ YEN SPOR KOMPLEKSİ RAMS PARK - İSTANBUL -
END:VEVENT
END:VCALENDAR
