BEGIN:VCALENDAR
VERSION:2.0
PRODID:itakvim.com
CALSCALE:GREGORIAN
METHOD:PUBLISH
UID:jhrtbwq4d11
X-WR-CALNAME:Veraset ve İntikal Vergisi
X-ITAKVIM-LANGUAGE:tr
X-ORIGINAL-URL:itakvim.com
REFRESH-INTERVAL;VALUE=DURATION:PT1H
X-ITAKVIM-REGION:TR
X-Robots-Tag:noindex
X-PUBLISHED-TTL:PT1H
BEGIN:VEVENT
UID:3c00dc94-cefe-4b9b-5038-08de9f183112
DTSTAMP:20260420T200618Z
TRANSP:TRANSPARENT
DTSTART:20260401T060000Z
DTEND:20260401T060000Z
STATUS:CONFIRMED
SUMMARY:Mart 2026 Dönemine Ait 5602 Sayılı Kanunda Tanımlanan Şans O
 yunlarıyla İlgili Veraset ve İntikal Vergisinin Beyanı ve Ödemesi B
 aşlangıç
DESCRIPTION:Mart 2026 Dönemi Şans Oyunlarıyla İlgili Veraset ve İnti
 kal Vergisi Beyan ve Ödemesi
BEGIN:VALARM
ACTION:DISPLAY
DESCRIPTION:Mart 2026 Dönemine Ait 5602 Sayılı Kanunda Tanımlanan Şa
 ns Oyunlarıyla İlgili Veraset ve İntikal Vergisinin Beyanı ve Ödeme
 si Başlangıç
TRIGGER:PT0S
END:VALARM
END:VEVENT
BEGIN:VEVENT
UID:dc6b32c8-15e2-47e9-5039-08de9f183112
DTSTAMP:20260420T200618Z
TRANSP:TRANSPARENT
DTSTART:20260420T140000Z
DTEND:20260420T140000Z
STATUS:CONFIRMED
SUMMARY:Mart 2026 Dönemi Şans Oyunlarıyla İlgili Veraset ve İntikal 
 Vergisi Beyan ve Ödemesi Son Gün
DESCRIPTION:Mart 2026 Dönemine Ait 5602 Sayılı Kanunda Tanımlanan Şa
 ns Oyunlarıyla İlgili Veraset ve İntikal Vergisinin Beyanı ve Ödeme
 si
BEGIN:VALARM
ACTION:DISPLAY
DESCRIPTION:Mart 2026 Dönemi Şans Oyunlarıyla İlgili Veraset ve İnti
 kal Vergisi Beyan ve Ödemesi Son Gün
TRIGGER:-PT8H
END:VALARM
END:VEVENT
BEGIN:VEVENT
UID:e4d4025e-c1bc-46dc-503a-08de9f183112
DTSTAMP:20260420T200618Z
TRANSP:TRANSPARENT
DTSTART:20260401T060000Z
DTEND:20260401T060000Z
STATUS:CONFIRMED
SUMMARY:Mart 2026 Dönemine Ait 5602 Sayılı Kanunda Tanımlanan Şans O
 yunlarıyla İlgili Veraset ve İntikal Vergisinin Beyanı ve Ödemesi B
 aşlangıç
DESCRIPTION:Mart 2026 Dönemi Şans Oyunlarıyla İlgili Veraset ve İnti
 kal Vergisi Beyan ve Ödemesi
BEGIN:VALARM
ACTION:DISPLAY
DESCRIPTION:Mart 2026 Dönemine Ait 5602 Sayılı Kanunda Tanımlanan Şa
 ns Oyunlarıyla İlgili Veraset ve İntikal Vergisinin Beyanı ve Ödeme
 si Başlangıç
TRIGGER:PT0S
END:VALARM
END:VEVENT
BEGIN:VEVENT
UID:93487811-6816-4a27-503b-08de9f183112
DTSTAMP:20260420T200618Z
TRANSP:TRANSPARENT
DTSTART:20260420T140000Z
DTEND:20260420T140000Z
STATUS:CONFIRMED
SUMMARY:Mart 2026 Dönemi Şans Oyunlarıyla İlgili Veraset ve İntikal 
 Vergisi Beyan ve Ödemesi Son Gün
DESCRIPTION:Mart 2026 Dönemine Ait 5602 Sayılı Kanunda Tanımlanan Şa
 ns Oyunlarıyla İlgili Veraset ve İntikal Vergisinin Beyanı ve Ödeme
 si
BEGIN:VALARM
ACTION:DISPLAY
DESCRIPTION:Mart 2026 Dönemi Şans Oyunlarıyla İlgili Veraset ve İnti
 kal Vergisi Beyan ve Ödemesi Son Gün
TRIGGER:-PT8H
END:VALARM
END:VEVENT
END:VCALENDAR
