BEGIN:VCALENDAR
VERSION:2.0
PRODID:itakvim.com
CALSCALE:GREGORIAN
METHOD:PUBLISH
UID:jm8bq380rcv
X-WR-CALNAME:İstanbul T.C. Kültür Ve Turizm Bakanlığı Rami Kütüphanesi Takvimi
X-ITAKVIM-LANGUAGE:tr
X-ORIGINAL-URL:itakvim.com
REFRESH-INTERVAL;VALUE=DURATION:PT1H
X-ITAKVIM-REGION:TR
X-Robots-Tag:noindex
X-PUBLISHED-TTL:PT1H
BEGIN:VEVENT
UID:e006ba85-665d-42b4-5302-08de9f183112
DTSTAMP:20260420T200816Z
TRANSP:TRANSPARENT
DTSTART:20261003T060000Z
DTEND:20261011T150000Z
STATUS:CONFIRMED
SUMMARY:İstanbul Çocuk Kitapları Fuarı
DESCRIPTION:Kipat Fuarcılık Ve Ticaret Limited Şirketi tarafından dü
 zenlenen çocuk kitapları konulu fuarda görüşmek üzere: \n\nWeb:www
 .kipatfuar.com\nE-Posta: kipatfuar@gmail.com
LOCATION:T.C. Kültür Ve Turizm Bakanlığı Rami Kütüphanesi
BEGIN:VALARM
ACTION:DISPLAY
DESCRIPTION:İstanbul Çocuk Kitapları Fuarı
TRIGGER:-PT24H
END:VALARM
END:VEVENT
END:VCALENDAR
