BEGIN:VCALENDAR
VERSION:2.0
PRODID:itakvim.com
CALSCALE:GREGORIAN
METHOD:PUBLISH
UID:jow27l51pdv
X-WR-CALNAME:İstanbul The Marmara Taksim Hotel Takvimi
X-ITAKVIM-LANGUAGE:tr
X-ORIGINAL-URL:itakvim.com
REFRESH-INTERVAL;VALUE=DURATION:PT1H
X-ITAKVIM-REGION:TR
X-Robots-Tag:noindex
X-PUBLISHED-TTL:PT1H
BEGIN:VEVENT
UID:aa40ac9e-3631-4586-5303-08de9f183112
DTSTAMP:20260420T200817Z
TRANSP:TRANSPARENT
DTSTART:20261016T060000Z
DTEND:20261017T150000Z
STATUS:CONFIRMED
SUMMARY:Vef Yurt Dışı Eğitim Fuarı
DESCRIPTION:Endless Grup Eğitim Bilişim Anonim Şirketi tarafından dü
 zenlenen yurt dışı eğitim danışmanlığı konulu fuarda görüşme
 k üzere: \n\nWeb:www.endlessg.com\nE-Posta: firat.incesu@endlessg.com
LOCATION:The Marmara Taksim Hotel
BEGIN:VALARM
ACTION:DISPLAY
DESCRIPTION:Vef Yurt Dışı Eğitim Fuarı
TRIGGER:-PT24H
END:VALARM
END:VEVENT
END:VCALENDAR
