BEGIN:VCALENDAR
VERSION:2.0
PRODID:itakvim.com
CALSCALE:GREGORIAN
METHOD:PUBLISH
UID:k5z0ough9fv
X-WR-CALNAME:Afyonkarahisar Uluslararası Fuar, Kongre Ve Gösteri Alanı Takvimi
X-ITAKVIM-LANGUAGE:tr
X-ORIGINAL-URL:itakvim.com
REFRESH-INTERVAL;VALUE=DURATION:PT1H
X-ITAKVIM-REGION:TR
X-Robots-Tag:noindex
X-PUBLISHED-TTL:PT1H
BEGIN:VEVENT
UID:482b62ff-956e-40c1-5305-08de9f183112
DTSTAMP:20260420T200816Z
TRANSP:TRANSPARENT
DTSTART:20260617T060000Z
DTEND:20260620T150000Z
STATUS:CONFIRMED
SUMMARY:2. Afyonkarahisar Blok Mermer Fuarı
DESCRIPTION:Alz Grup Uluslararası Fuar Kongre Ve Danışmanlık Anonim 
 Şirketi tarafından düzenlenen blok mermer\, mermer ve doğal taş kon
 ulu fuarda görüşmek üzere: \n\nWeb:www.alzgurp.com.tr\nE-Posta: info
 @alzgrup.com.tr
LOCATION:Afyonkarahisar Uluslararası Fuar, Kongre Ve Gösteri Alanı
BEGIN:VALARM
ACTION:DISPLAY
DESCRIPTION:2. Afyonkarahisar Blok Mermer Fuarı
TRIGGER:-PT24H
END:VALARM
END:VEVENT
END:VCALENDAR
