BEGIN:VCALENDAR
VERSION:2.0
PRODID:itakvim.com
CALSCALE:GREGORIAN
METHOD:PUBLISH
UID:kcgtyg3dvvf
X-WR-CALNAME:İstanbul Dr. Mimar Kadir Topbaş Gösteri Ve Sanat Merkezi Takvimi
X-ITAKVIM-LANGUAGE:tr
X-ORIGINAL-URL:itakvim.com
REFRESH-INTERVAL;VALUE=DURATION:PT1H
X-ITAKVIM-REGION:TR
X-Robots-Tag:noindex
X-PUBLISHED-TTL:PT1H
BEGIN:VEVENT
UID:1f06d33c-b1ef-4f1a-5306-08de9f183112
DTSTAMP:20260420T200816Z
TRANSP:TRANSPARENT
DTSTART:20260430T060000Z
DTEND:20260503T150000Z
STATUS:CONFIRMED
SUMMARY:Naturfest Kamp Karavan Ve Doğa Sporları Fuarı
DESCRIPTION:Prizma Etkinlik Risk Yönetim Servis Hizmetleri Ticaret Limit
 ed Şirketi tarafından düzenlenen kamp ve karavan araçları\, doğa s
 porları konulu fuarda görüşmek üzere: \n\nWeb:www.naturfest.net\nE-
 Posta: cengiz.imeci@prizma-hr.com
LOCATION:Dr. Mimar Kadir Topbaş Gösteri Ve Sanat Merkezi
BEGIN:VALARM
ACTION:DISPLAY
DESCRIPTION:Naturfest Kamp Karavan Ve Doğa Sporları Fuarı
TRIGGER:-PT24H
END:VALARM
END:VEVENT
BEGIN:VEVENT
UID:cef6480d-a711-4e80-5307-08de9f183112
DTSTAMP:20260420T200816Z
TRANSP:TRANSPARENT
DTSTART:20260508T060000Z
DTEND:20260510T150000Z
STATUS:CONFIRMED
SUMMARY:World Sports İstanbul - Uluslararası Fitness Ekipmanları, Spor
  Teknolojileri, Gıda, Giyim Ve Wellness Fuarı
DESCRIPTION:Tam Fuarcılık Ve Organizasyon Anonim Şirketi tarafından d
 üzenlenen spor ekipmanları\, teknolojileri\, gıda\, giyim ve wellness
  konulu fuarda görüşmek üzere: \n\nWeb:www.worldsportsistanbul.com\n
 E-Posta: ahmet@tamfuar.com
LOCATION:Dr. Mimar Kadir Topbaş Gösteri Ve Sanat Merkezi
BEGIN:VALARM
ACTION:DISPLAY
DESCRIPTION:World Sports İstanbul - Uluslararası Fitness Ekipmanları, 
 Spor Teknolojileri, Gıda, Giyim Ve Wellness Fuarı
TRIGGER:-PT24H
END:VALARM
END:VEVENT
BEGIN:VEVENT
UID:ec99c07c-f883-4925-5308-08de9f183112
DTSTAMP:20260420T200816Z
TRANSP:TRANSPARENT
DTSTART:20260513T060000Z
DTEND:20260517T150000Z
STATUS:CONFIRMED
SUMMARY:Artcontact İstanbul 6.Uluslararası Çağdaş Sanat Fuarı
DESCRIPTION:Atis Fuarcılık Anonim Şirketi tarafından düzenlenen sana
 t ve sanatsal ürünler konulu fuarda görüşmek üzere: \n\nWeb:www.at
 isfuar.com.tr\nE-Posta: info@atisfuar.com
LOCATION:Dr. Mimar Kadir Topbaş Gösteri Ve Sanat Merkezi
BEGIN:VALARM
ACTION:DISPLAY
DESCRIPTION:Artcontact İstanbul 6.Uluslararası Çağdaş Sanat Fuarı
TRIGGER:-PT24H
END:VALARM
END:VEVENT
BEGIN:VEVENT
UID:960cbba8-c942-46d9-5309-08de9f183112
DTSTAMP:20260420T200816Z
TRANSP:TRANSPARENT
DTSTART:20260611T060000Z
DTEND:20260613T150000Z
STATUS:CONFIRMED
SUMMARY:Worldef E-Ticaret Hizmetleri Fuarı
DESCRIPTION:Worldef Global Organizasyon Anonim Şirketi tarafından düze
 nlenen e-ticaret ve e-İhracat konulu fuarda görüşmek üzere: \n\nWeb
 :www.worldef.net\nE-Posta: habip.erdem@worldef.com
LOCATION:Dr. Mimar Kadir Topbaş Gösteri Ve Sanat Merkezi
BEGIN:VALARM
ACTION:DISPLAY
DESCRIPTION:Worldef E-Ticaret Hizmetleri Fuarı
TRIGGER:-PT24H
END:VALARM
END:VEVENT
BEGIN:VEVENT
UID:f4fde102-a4d7-469a-530a-08de9f183112
DTSTAMP:20260420T200816Z
TRANSP:TRANSPARENT
DTSTART:20260724T060000Z
DTEND:20260726T150000Z
STATUS:CONFIRMED
SUMMARY:Üniversite Tercih Fuarı
DESCRIPTION:Tercih Fuarcılık Limited Şirketi tarafından düzenlenen e
 ğitim \, üniversite tanıtımı\, üniversite tercih \, konulu fuarda 
 görüşmek üzere: \n\nWeb:www.tercihfuari.com\nE-Posta: info@artiterci
 h.com
LOCATION:Dr. Mimar Kadir Topbaş Gösteri Ve Sanat Merkezi
BEGIN:VALARM
ACTION:DISPLAY
DESCRIPTION:Üniversite Tercih Fuarı
TRIGGER:-PT24H
END:VALARM
END:VEVENT
BEGIN:VEVENT
UID:e0b54a6a-b269-43c6-530b-08de9f183112
DTSTAMP:20260420T200816Z
TRANSP:TRANSPARENT
DTSTART:20260916T060000Z
DTEND:20260918T150000Z
STATUS:CONFIRMED
SUMMARY:Electricity Eurasia - Elektrik Ve Elektrik Ekipmanları Fuarı
DESCRIPTION:Sektörel Fuarcılık A.Ş. tarafından düzenlenen elektrik 
 üretimi\, İletimi ve dağıtım sistemlari\, elektrik\, elektronik\, a
 ydınlatma\, kablo\, otomasyon\, elektrik ekipmanları konulu fuarda gö
 rüşmek üzere: \n\nWeb:www.electricityeurasia.com\nE-Posta: info@sekto
 relfuarcilik.com
LOCATION:Dr. Mimar Kadir Topbaş Gösteri Ve Sanat Merkezi
BEGIN:VALARM
ACTION:DISPLAY
DESCRIPTION:Electricity Eurasia - Elektrik Ve Elektrik Ekipmanları Fuar
 ı
TRIGGER:-PT24H
END:VALARM
END:VEVENT
BEGIN:VEVENT
UID:49558783-1d4b-4dd7-530c-08de9f183112
DTSTAMP:20260420T200816Z
TRANSP:TRANSPARENT
DTSTART:20260916T060000Z
DTEND:20260918T150000Z
STATUS:CONFIRMED
SUMMARY:Iccı - Uluslararası Enerji Ve Çevre Fuarı Ve Konferansı
DESCRIPTION:Sektörel Fuarcılık A.Ş. tarafından düzenlenen enerji ü
 retimi\, İletimi depolama ve dağıtımı konulu fuarda görüşmek üz
 ere: \n\nWeb:www.icci.com.tr\nE-Posta: info@sektorelfuarcilik.com
LOCATION:Dr. Mimar Kadir Topbaş Gösteri Ve Sanat Merkezi
BEGIN:VALARM
ACTION:DISPLAY
DESCRIPTION:Iccı - Uluslararası Enerji Ve Çevre Fuarı Ve Konferansı
TRIGGER:-PT24H
END:VALARM
END:VEVENT
BEGIN:VEVENT
UID:5a73467c-4dca-4ac0-530d-08de9f183112
DTSTAMP:20260420T200816Z
TRANSP:TRANSPARENT
DTSTART:20260924T060000Z
DTEND:20260925T150000Z
STATUS:CONFIRMED
SUMMARY:İstanbul Turizm Fuarı
DESCRIPTION:Dream Project Organizasyon Fuarcılık Ve Ticaret Anonim Şir
 keti tarafından düzenlenen turizm konulu fuarda görüşmek üzere: \n
 \nWeb:www.istanbulturizmfuari.com.tr\nE-Posta: muhasebe@dreamproject.com
 .tr
LOCATION:Dr. Mimar Kadir Topbaş Gösteri Ve Sanat Merkezi
BEGIN:VALARM
ACTION:DISPLAY
DESCRIPTION:İstanbul Turizm Fuarı
TRIGGER:-PT24H
END:VALARM
END:VEVENT
BEGIN:VEVENT
UID:1f22479d-e7a8-4ccd-530e-08de9f183112
DTSTAMP:20260420T200816Z
TRANSP:TRANSPARENT
DTSTART:20261001T060000Z
DTEND:20261004T150000Z
STATUS:CONFIRMED
SUMMARY:Craftistanbul 7.Uluslararası Yöresel Ve Geleneksel El Sanatlar
 ı Fuarı
DESCRIPTION:Atis Fuarcılık Anonim Şirketi tarafından düzenlenen yör
 esel\, geleneksel el sanatları ve tasarım konulu fuarda görüşmek ü
 zere: \n\nWeb:www.craftfairistanbul.com\nE-Posta: info@atisfuar.com
LOCATION:Dr. Mimar Kadir Topbaş Gösteri Ve Sanat Merkezi
BEGIN:VALARM
ACTION:DISPLAY
DESCRIPTION:Craftistanbul 7.Uluslararası Yöresel Ve Geleneksel El Sanat
 ları Fuarı
TRIGGER:-PT24H
END:VALARM
END:VEVENT
BEGIN:VEVENT
UID:e2cdb507-0b14-4041-530f-08de9f183112
DTSTAMP:20260420T200816Z
TRANSP:TRANSPARENT
DTSTART:20261015T060000Z
DTEND:20261018T150000Z
STATUS:CONFIRMED
SUMMARY:Bayim Olur Musun? 24. Franchising Ve Markalı Bayilik Fuarı
DESCRIPTION:Medya Fors Fuarcılık Anonim Şirketi tarafından düzenlene
 n bayilik ve franchise veren markalar\, yatırımcılar\, fırsatlar kon
 ulu fuarda görüşmek üzere: \n\nWeb:www.medyafors.com\nE-Posta: info@
 medyafors.com
LOCATION:Dr. Mimar Kadir Topbaş Gösteri Ve Sanat Merkezi
BEGIN:VALARM
ACTION:DISPLAY
DESCRIPTION:Bayim Olur Musun? 24. Franchising Ve Markalı Bayilik Fuarı
TRIGGER:-PT24H
END:VALARM
END:VEVENT
BEGIN:VEVENT
UID:b1792487-cf74-48e1-5310-08de9f183112
DTSTAMP:20260420T200816Z
TRANSP:TRANSPARENT
DTSTART:20261022T060000Z
DTEND:20261025T150000Z
STATUS:CONFIRMED
SUMMARY:Broadcastex-Radyo & Televizyon, Dijital Yayıncılık Ekipmanlar
 ı Ve Film Prodüksiyon, Ses & Işık Teknolojileri Fuarı
DESCRIPTION:Expotime Fuarcılık Hizmetleri Ve Organizasyon Ticaret Limit
 ed Şirketi tarafından düzenlenen radyo & televizyon\, dijital yayınc
 ılık ekipmanları ve film prodüksiyon\, ses & işık teknolojileri ko
 nulu fuarda görüşmek üzere: \n\nWeb:www.expolive.com\nE-Posta: serka
 n@expotime.com.tr
LOCATION:Dr. Mimar Kadir Topbaş Gösteri Ve Sanat Merkezi
BEGIN:VALARM
ACTION:DISPLAY
DESCRIPTION:Broadcastex-Radyo & Televizyon, Dijital Yayıncılık Ekipman
 ları Ve Film Prodüksiyon, Ses & Işık Teknolojileri Fuarı
TRIGGER:-PT24H
END:VALARM
END:VEVENT
BEGIN:VEVENT
UID:be6b4def-c63a-4992-5311-08de9f183112
DTSTAMP:20260420T200816Z
TRANSP:TRANSPARENT
DTSTART:20261029T060000Z
DTEND:20261031T150000Z
STATUS:CONFIRMED
SUMMARY:İstanbul Maraton Ve Spor Fuarı
DESCRIPTION:Thor Expo Fuarcılık Hizmetleri Anonim Şirketi tarafından 
 düzenlenen spor ürünleri ve spor malzemeleri konulu fuarda görüşme
 k üzere: \n\nWeb:www.thorajans.com\nE-Posta: ismail@thorajans.com
LOCATION:Dr. Mimar Kadir Topbaş Gösteri Ve Sanat Merkezi
BEGIN:VALARM
ACTION:DISPLAY
DESCRIPTION:İstanbul Maraton Ve Spor Fuarı
TRIGGER:-PT24H
END:VALARM
END:VEVENT
BEGIN:VEVENT
UID:a584562a-684e-4276-5312-08de9f183112
DTSTAMP:20260420T200816Z
TRANSP:TRANSPARENT
DTSTART:20261104T060000Z
DTEND:20261106T150000Z
STATUS:CONFIRMED
SUMMARY:Europort İstanbul
DESCRIPTION:Bonn Uluslararası Fuarcılık Anonim Şirketi tarafından d
 üzenlenen denizcilik sektörü\, gemi İnşa ve yan sanayi konulu fuard
 a görüşmek üzere: \n\nWeb:www.europort.com.tr\nE-Posta: esin.goksel@
 bonn.com.tr
LOCATION:Dr. Mimar Kadir Topbaş Gösteri Ve Sanat Merkezi
BEGIN:VALARM
ACTION:DISPLAY
DESCRIPTION:Europort İstanbul
TRIGGER:-PT24H
END:VALARM
END:VEVENT
BEGIN:VEVENT
UID:1dd32e2e-3673-46f1-5313-08de9f183112
DTSTAMP:20260420T200816Z
TRANSP:TRANSPARENT
DTSTART:20261111T060000Z
DTEND:20261113T150000Z
STATUS:CONFIRMED
SUMMARY:Uluslararası Logitrans Transport Lojistik Fuarı
DESCRIPTION:Eko Mmı Fuarcılık Limited Şirketi tarafından düzenlenen
  taşımacılık\, lojistik\, İntermodal uygulamalar\, depolama\, telem
 atik konulu fuarda görüşmek üzere: \n\nWeb:www.logitrans.istanbul.co
 m\nE-Posta: info@mmi.com
LOCATION:Dr. Mimar Kadir Topbaş Gösteri Ve Sanat Merkezi
BEGIN:VALARM
ACTION:DISPLAY
DESCRIPTION:Uluslararası Logitrans Transport Lojistik Fuarı
TRIGGER:-PT24H
END:VALARM
END:VEVENT
BEGIN:VEVENT
UID:b6915123-e42d-444f-5314-08de9f183112
DTSTAMP:20260420T200816Z
TRANSP:TRANSPARENT
DTSTART:20261119T060000Z
DTEND:20261122T150000Z
STATUS:CONFIRMED
SUMMARY:Souvenır Expo Türkiye Turistik Hediyelik Ve Hatıra Eşya Fuar
 ı
DESCRIPTION:Rota Exhibitions Turkey Fuarcılık A.Ş. tarafından düzenl
 enen turistik hediyelik ürünler ve hatıra eşyalar konulu fuarda gör
 üşmek üzere: \n\nWeb:www.rotaexhibitions.com.tr\nE-Posta: bakkor@rota
 exhibitions.com.tr
LOCATION:Dr. Mimar Kadir Topbaş Gösteri Ve Sanat Merkezi
BEGIN:VALARM
ACTION:DISPLAY
DESCRIPTION:Souvenır Expo Türkiye Turistik Hediyelik Ve Hatıra Eşya F
 uarı
TRIGGER:-PT24H
END:VALARM
END:VEVENT
BEGIN:VEVENT
UID:46a4744a-118f-42f6-5315-08de9f183112
DTSTAMP:20260420T200816Z
TRANSP:TRANSPARENT
DTSTART:20261126T060000Z
DTEND:20261128T150000Z
STATUS:CONFIRMED
SUMMARY:Elf Teknoloji Fuarı
DESCRIPTION:Mes Fuarcılık Limited Şirketi tarafından düzenlenen ev e
 lektroniği elektrikli ev eşyaları güvenlik ve yangın sistemleri kon
 ulu fuarda görüşmek üzere: \n\nWeb:www.elffuar.com\nE-Posta: akturkd
 enetm@gmail.com
LOCATION:Dr. Mimar Kadir Topbaş Gösteri Ve Sanat Merkezi
BEGIN:VALARM
ACTION:DISPLAY
DESCRIPTION:Elf Teknoloji Fuarı
TRIGGER:-PT24H
END:VALARM
END:VEVENT
BEGIN:VEVENT
UID:c6035932-3d1c-4fb6-5316-08de9f183112
DTSTAMP:20260420T200816Z
TRANSP:TRANSPARENT
DTSTART:20261203T060000Z
DTEND:20261206T150000Z
STATUS:CONFIRMED
SUMMARY:İmeef-İstanbul Müzik Endüstrileri Ve Ekipmanları Fuarı
DESCRIPTION:Expotime Fuarcılık Hizmetleri Ve Organizasyon Ticaret Limit
 ed Şirketi tarafından düzenlenen müzik endüstrileri\, ekipmanları 
 ve ses & işık sistemleri konulu fuarda görüşmek üzere: \n\nWeb:www
 .imeef.com\nE-Posta: serkan@expotime.com.tr
LOCATION:Dr. Mimar Kadir Topbaş Gösteri Ve Sanat Merkezi
BEGIN:VALARM
ACTION:DISPLAY
DESCRIPTION:İmeef-İstanbul Müzik Endüstrileri Ve Ekipmanları Fuarı
TRIGGER:-PT24H
END:VALARM
END:VEVENT
BEGIN:VEVENT
UID:956d3e19-5bbd-4cd2-5317-08de9f183112
DTSTAMP:20260420T200816Z
TRANSP:TRANSPARENT
DTSTART:20261212T060000Z
DTEND:20261220T150000Z
STATUS:CONFIRMED
SUMMARY:Yenikapı Boat Show, 4.Deniz Araçları Ekipmanları Ve Aksesuarl
 arı Fuarı
DESCRIPTION:Artı Fuarcılık Organizasyon Limited Şirketi tarafından d
 üzenlenen deniz araçları ekipmanları ve aksesuarları konulu fuarda 
 görüşmek üzere: \n\nWeb:www.artifuar.com\nE-Posta: murat.arslan@arti
 fuar.com
LOCATION:Dr. Mimar Kadir Topbaş Gösteri Ve Sanat Merkezi
BEGIN:VALARM
ACTION:DISPLAY
DESCRIPTION:Yenikapı Boat Show, 4.Deniz Araçları Ekipmanları Ve Akses
 uarları Fuarı
TRIGGER:-PT24H
END:VALARM
END:VEVENT
END:VCALENDAR
