BEGIN:VCALENDAR
VERSION:2.0
PRODID:itakvim.com
CALSCALE:GREGORIAN
METHOD:PUBLISH
UID:knbn36g0yxg
X-WR-CALNAME:Isparta Gökkubbe Fuar Ve Kongre Merkezi Takvimi
X-ITAKVIM-LANGUAGE:tr
X-ORIGINAL-URL:itakvim.com
REFRESH-INTERVAL;VALUE=DURATION:PT1H
X-ITAKVIM-REGION:TR
X-Robots-Tag:noindex
X-PUBLISHED-TTL:PT1H
BEGIN:VEVENT
UID:b2dbfcc9-62f4-4294-5318-08de9f183112
DTSTAMP:20260420T200817Z
TRANSP:TRANSPARENT
DTSTART:20261112T060000Z
DTEND:20261115T150000Z
STATUS:CONFIRMED
SUMMARY:21. Göller Bölgesi Tarım Ve Hayvancılık Fuarı
DESCRIPTION:Detay Fuarcılık Organizasyon Ve Tanıtım Hizmetleri Limite
 d Şirketi tarafından düzenlenen tarım ve hayvancılık konulu fuarda
  görüşmek üzere: \n\nWeb:www.detayfuarcilik.com\nE-Posta: info@detay
 fuarcilik.com
LOCATION:Gökkubbe Fuar Ve Kongre Merkezi
BEGIN:VALARM
ACTION:DISPLAY
DESCRIPTION:21. Göller Bölgesi Tarım Ve Hayvancılık Fuarı
TRIGGER:-PT24H
END:VALARM
END:VEVENT
END:VCALENDAR
