BEGIN:VCALENDAR
VERSION:2.0
PRODID:itakvim.com
CALSCALE:GREGORIAN
METHOD:PUBLISH
UID:krrdz1fp98k
X-WR-CALNAME:Muğla Heredot Kültür Merkezi Takvimi
X-ITAKVIM-LANGUAGE:tr
X-ORIGINAL-URL:itakvim.com
REFRESH-INTERVAL;VALUE=DURATION:PT1H
X-ITAKVIM-REGION:TR
X-Robots-Tag:noindex
X-PUBLISHED-TTL:PT1H
BEGIN:VEVENT
UID:b792da4f-4250-4baf-8d33-08de9dec68b5
DTSTAMP:20260419T083022Z
TRANSP:TRANSPARENT
DTSTART:20260326T060000Z
DTEND:20260328T150000Z
STATUS:CONFIRMED
SUMMARY:Bodrum Otel, Kafe, Restaurant Ekipmanları, Ev Dışı Tüketim 
 Ürünleri, Gıda Ve İçecek Fuarı
DESCRIPTION:Başak Fuar Hizmetleri Limited Şirketi tarafından düzenlen
 en otel\, kafe\, restaurant ekipmanları\, ev dışı tüketim ürünler
 i\, gıda ve konulu fuarda görüşmek üzere: \n\nWeb:www.basakfuar.com
 \nE-Posta: sedatbozkurt3@gmail.com\; info@basakfuar.com
LOCATION:Heredot Kültür Merkezi
BEGIN:VALARM
ACTION:DISPLAY
DESCRIPTION:Bodrum Otel, Kafe, Restaurant Ekipmanları, Ev Dışı Tüket
 im Ürünleri, Gıda Ve İçecek Fuarı
TRIGGER:-PT24H
END:VALARM
END:VEVENT
END:VCALENDAR
