BEGIN:VCALENDAR
VERSION:2.0
PRODID:itakvim.com
CALSCALE:GREGORIAN
METHOD:PUBLISH
UID:ktzgu34hx6l
X-WR-CALNAME:Adıyaman Altınşehir Mahallsesi Küçük Sanayi Girişi Karşısı Takvimi
X-ITAKVIM-LANGUAGE:tr
X-ORIGINAL-URL:itakvim.com
REFRESH-INTERVAL;VALUE=DURATION:PT1H
X-ITAKVIM-REGION:TR
X-Robots-Tag:noindex
X-PUBLISHED-TTL:PT1H
BEGIN:VEVENT
UID:7e33c14b-f3d8-4d80-5319-08de9f183112
DTSTAMP:20260420T200816Z
TRANSP:TRANSPARENT
DTSTART:20260506T060000Z
DTEND:20260510T150000Z
STATUS:CONFIRMED
SUMMARY:Gıda Tarım Ve Hayvancılık Fuarı
DESCRIPTION:Medyatrend Fuarcılık Sanayi Ve Ticaret Limited Şirketi tar
 afından düzenlenen tarım\, gıda\, hayvancılık teknolojileri ve end
 üstrileri konulu fuarda görüşmek üzere: \n\nWeb:www.medyatrend.com.
 tr\nE-Posta: medyatrend@hotmail.com
LOCATION:Altınşehir Mahallsesi Küçük Sanayi Girişi Karşısı
BEGIN:VALARM
ACTION:DISPLAY
DESCRIPTION:Gıda Tarım Ve Hayvancılık Fuarı
TRIGGER:-PT24H
END:VALARM
END:VEVENT
END:VCALENDAR
