BEGIN:VCALENDAR
VERSION:2.0
PRODID:itakvim.com
CALSCALE:GREGORIAN
METHOD:PUBLISH
UID:kyuf9xfhv2o
X-WR-CALNAME:Wow İstanbul Hotels & Convention Center Safir A+B+C Salonu Ve Fuayeleri Takvimi
X-ITAKVIM-LANGUAGE:tr
X-ORIGINAL-URL:itakvim.com
REFRESH-INTERVAL;VALUE=DURATION:PT1H
X-ITAKVIM-REGION:TR
X-Robots-Tag:noindex
X-PUBLISHED-TTL:PT1H
BEGIN:VEVENT
UID:994c6341-5c5a-41eb-531a-08de9f183112
DTSTAMP:20260420T200816Z
TRANSP:TRANSPARENT
DTSTART:20260708T060000Z
DTEND:20260710T150000Z
STATUS:CONFIRMED
SUMMARY:Parfüm Expo Fuarı 2026
DESCRIPTION:İstanbul Aşk Turizm Gayrimenkul Danışmanlığı Limited 
 Şirketi tarafından düzenlenen parfüm\,kimya sanayi\,ambalaj ve paket
 leme\,güzellik ve bakım\,kuaför\,kozmetik\,makyaj\,uçucu yağlar\, k
 onulu fuarda görüşmek üzere: \n\nWeb:www.istanbul-ask.com\nE-Posta: 
 sehersarhan1982@gmail.com
LOCATION:Wow İstanbul Hotels & Convention Center Safir A+B+C Salonu Ve Fuayeleri
BEGIN:VALARM
ACTION:DISPLAY
DESCRIPTION:Parfüm Expo Fuarı 2026
TRIGGER:-PT24H
END:VALARM
END:VEVENT
END:VCALENDAR
