BEGIN:VCALENDAR
VERSION:2.0
PRODID:itakvim.com
CALSCALE:GREGORIAN
METHOD:PUBLISH
UID:lh037194gdi
X-WR-CALNAME:Wow İstanbul Hotels & Convention Center A+B+C Salonu Ve Fuayeleri Takvimi
X-ITAKVIM-LANGUAGE:tr
X-ORIGINAL-URL:itakvim.com
REFRESH-INTERVAL;VALUE=DURATION:PT1H
X-ITAKVIM-REGION:TR
X-Robots-Tag:noindex
X-PUBLISHED-TTL:PT1H
BEGIN:VEVENT
UID:2876bd71-871a-4ed9-5323-08de9f183112
DTSTAMP:20260420T200816Z
TRANSP:TRANSPARENT
DTSTART:20260626T060000Z
DTEND:20260627T150000Z
STATUS:CONFIRMED
SUMMARY:İstanbul Turizm Ve Seyahat Fuarı
DESCRIPTION:İstanbul Aşk Turizm Gayrimenkul Danışmanlığı Limited 
 Şirketi tarafından düzenlenen hac ve umre turizm konaklama fuarı kon
 ulu fuarda görüşmek üzere: \n\nWeb:www.ask-istanbul.com\nE-Posta: se
 hersarhan1982@gmail.com
LOCATION:Wow İstanbul Hotels & Convention Center A+B+C Salonu Ve Fuayeleri
BEGIN:VALARM
ACTION:DISPLAY
DESCRIPTION:İstanbul Turizm Ve Seyahat Fuarı
TRIGGER:-PT24H
END:VALARM
END:VEVENT
END:VCALENDAR
