BEGIN:VCALENDAR
VERSION:2.0
PRODID:itakvim.com
CALSCALE:GREGORIAN
METHOD:PUBLISH
UID:me5a7mdedbb
X-WR-CALNAME:Banka ve Sigorta Muameleleri Vergisi
X-ITAKVIM-LANGUAGE:tr
X-ORIGINAL-URL:itakvim.com
REFRESH-INTERVAL;VALUE=DURATION:PT1H
X-ITAKVIM-REGION:TR
X-Robots-Tag:noindex
X-PUBLISHED-TTL:PT1H
BEGIN:VEVENT
UID:5d9459a9-2625-4ccb-de90-08de9748e6b5
DTSTAMP:20260414T210018Z
TRANSP:TRANSPARENT
DTSTART:20260401T060000Z
DTEND:20260401T060000Z
STATUS:CONFIRMED
SUMMARY:Mart 2026 Dönemine Ait Banka ve Sigorta Muameleleri Vergisinin B
 eyanı ve Ödemesi Başlangıç
DESCRIPTION:Mart 2026 Dönemi Banka ve Sigorta Muameleleri Vergisi Beyan 
 ve Ödemesi
BEGIN:VALARM
ACTION:DISPLAY
DESCRIPTION:Mart 2026 Dönemine Ait Banka ve Sigorta Muameleleri Vergisin
 in Beyanı ve Ödemesi Başlangıç
TRIGGER:PT0S
END:VALARM
END:VEVENT
BEGIN:VEVENT
UID:f8c39392-d563-4d43-de91-08de9748e6b5
DTSTAMP:20260414T210018Z
TRANSP:TRANSPARENT
DTSTART:20260415T140000Z
DTEND:20260415T140000Z
STATUS:CONFIRMED
SUMMARY:Mart 2026 Dönemi Banka ve Sigorta Muameleleri Vergisi Beyan ve 
 Ödemesi Son Gün
DESCRIPTION:Mart 2026 Dönemine Ait Banka ve Sigorta Muameleleri Vergisin
 in Beyanı ve Ödemesi
BEGIN:VALARM
ACTION:DISPLAY
DESCRIPTION:Mart 2026 Dönemi Banka ve Sigorta Muameleleri Vergisi Beyan 
 ve Ödemesi Son Gün
TRIGGER:-PT8H
END:VALARM
END:VEVENT
BEGIN:VEVENT
UID:ed770006-0b3c-474c-de92-08de9748e6b5
DTSTAMP:20260414T210018Z
TRANSP:TRANSPARENT
DTSTART:20260401T060000Z
DTEND:20260401T060000Z
STATUS:CONFIRMED
SUMMARY:Mart 2026 Dönemine Ait Banka ve Sigorta Muameleleri Vergisinin B
 eyanı ve Ödemesi Başlangıç
DESCRIPTION:Mart 2026 Dönemi Banka ve Sigorta Muameleleri Vergisi Beyan 
 ve Ödemesi
BEGIN:VALARM
ACTION:DISPLAY
DESCRIPTION:Mart 2026 Dönemine Ait Banka ve Sigorta Muameleleri Vergisin
 in Beyanı ve Ödemesi Başlangıç
TRIGGER:PT0S
END:VALARM
END:VEVENT
BEGIN:VEVENT
UID:e2fec5ca-460a-4826-de93-08de9748e6b5
DTSTAMP:20260414T210018Z
TRANSP:TRANSPARENT
DTSTART:20260415T140000Z
DTEND:20260415T140000Z
STATUS:CONFIRMED
SUMMARY:Mart 2026 Dönemi Banka ve Sigorta Muameleleri Vergisi Beyan ve 
 Ödemesi Son Gün
DESCRIPTION:Mart 2026 Dönemine Ait Banka ve Sigorta Muameleleri Vergisin
 in Beyanı ve Ödemesi
BEGIN:VALARM
ACTION:DISPLAY
DESCRIPTION:Mart 2026 Dönemi Banka ve Sigorta Muameleleri Vergisi Beyan 
 ve Ödemesi Son Gün
TRIGGER:-PT8H
END:VALARM
END:VEVENT
END:VCALENDAR
