BEGIN:VCALENDAR
VERSION:2.0
PRODID:itakvim.com
CALSCALE:GREGORIAN
METHOD:PUBLISH
UID:mgs56p7evjv
X-WR-CALNAME:Dijital Hizmet Vergisi
X-ITAKVIM-LANGUAGE:tr
X-ORIGINAL-URL:itakvim.com
REFRESH-INTERVAL;VALUE=DURATION:PT1H
X-ITAKVIM-REGION:TR
X-Robots-Tag:noindex
X-PUBLISHED-TTL:PT1H
BEGIN:VEVENT
UID:7997d3b4-c73f-4cdf-d2e3-08de9f271cd7
DTSTAMP:20260420T215235Z
TRANSP:TRANSPARENT
DTSTART:20260401T060000Z
DTEND:20260401T060000Z
STATUS:CONFIRMED
SUMMARY:Mart 2026 Dönemine Ait Dijital Hizmet Vergisinin Beyanı ve Öde
 mesi Başlangıç
DESCRIPTION:Mart 2026 Dönemi Dijital Hizmet Vergisi Beyan ve Ödemesi
BEGIN:VALARM
ACTION:DISPLAY
DESCRIPTION:Mart 2026 Dönemine Ait Dijital Hizmet Vergisinin Beyanı ve 
 Ödemesi Başlangıç
TRIGGER:PT0S
END:VALARM
END:VEVENT
BEGIN:VEVENT
UID:6f788405-51a3-413a-d2e4-08de9f271cd7
DTSTAMP:20260420T215235Z
TRANSP:TRANSPARENT
DTSTART:20260430T140000Z
DTEND:20260430T140000Z
STATUS:CONFIRMED
SUMMARY:Mart 2026 Dönemi Dijital Hizmet Vergisi Beyan ve Ödemesi Son G
 ün
DESCRIPTION:Mart 2026 Dönemine Ait Dijital Hizmet Vergisinin Beyanı ve 
 Ödemesi
BEGIN:VALARM
ACTION:DISPLAY
DESCRIPTION:Mart 2026 Dönemi Dijital Hizmet Vergisi Beyan ve Ödemesi So
 n Gün
TRIGGER:-PT8H
END:VALARM
END:VEVENT
END:VCALENDAR
