BEGIN:VCALENDAR
VERSION:2.0
PRODID:itakvim.com
CALSCALE:GREGORIAN
METHOD:PUBLISH
UID:mi9titw2ns3
X-WR-CALNAME:Konaklama Vergisi
X-ITAKVIM-LANGUAGE:tr
X-ORIGINAL-URL:itakvim.com
REFRESH-INTERVAL;VALUE=DURATION:PT1H
X-ITAKVIM-REGION:TR
X-Robots-Tag:noindex
X-PUBLISHED-TTL:PT1H
BEGIN:VEVENT
UID:80268ce1-6400-43ce-d2e5-08de9f271cd7
DTSTAMP:20260420T215235Z
TRANSP:TRANSPARENT
DTSTART:20260401T060000Z
DTEND:20260401T060000Z
STATUS:CONFIRMED
SUMMARY:Mart 2026 Dönemine Ait Konaklama Vergisinin Beyanı ve Ödemesi 
 Başlangıç
DESCRIPTION:Mart 2026 Dönemi Konaklama Vergisi Beyan ve Ödemesi
BEGIN:VALARM
ACTION:DISPLAY
DESCRIPTION:Mart 2026 Dönemine Ait Konaklama Vergisinin Beyanı ve Ödem
 esi Başlangıç
TRIGGER:PT0S
END:VALARM
END:VEVENT
BEGIN:VEVENT
UID:5f7694bf-5ee3-4002-d2e6-08de9f271cd7
DTSTAMP:20260420T215235Z
TRANSP:TRANSPARENT
DTSTART:20260427T140000Z
DTEND:20260427T140000Z
STATUS:CONFIRMED
SUMMARY:Mart 2026 Dönemi Konaklama Vergisi Beyan ve Ödemesi Son Gün
DESCRIPTION:Mart 2026 Dönemine Ait Konaklama Vergisinin Beyanı ve Ödem
 esi
BEGIN:VALARM
ACTION:DISPLAY
DESCRIPTION:Mart 2026 Dönemi Konaklama Vergisi Beyan ve Ödemesi Son Gü
 n
TRIGGER:-PT8H
END:VALARM
END:VEVENT
END:VCALENDAR
