BEGIN:VCALENDAR
VERSION:2.0
PRODID:itakvim.com
CALSCALE:GREGORIAN
METHOD:PUBLISH
UID:n0qi798lgjq
X-WR-CALNAME:YÖKDİL Sınav Takvimi
X-ITAKVIM-LANGUAGE:tr
X-ORIGINAL-URL:itakvim.com
REFRESH-INTERVAL;VALUE=DURATION:PT1H
X-ITAKVIM-REGION:TR
X-Robots-Tag:noindex
X-PUBLISHED-TTL:PT1H
BEGIN:VEVENT
UID:5e934d96-2746-422d-d6e1-08de9fecec0c
DTSTAMP:20260421T212824Z
TRANSP:TRANSPARENT
DTSTART:20260308T071500Z
DTEND:20260308T071500Z
STATUS:CONFIRMED
SUMMARY:YÖKDİL Yükseköğretim Kurumları Yabancı Dil Sınavı 2026-Y
 ÖKDİL/1 Sınav
END:VEVENT
BEGIN:VEVENT
UID:4a39fe87-847f-44bf-d6e2-08de9fecec0c
DTSTAMP:20260421T212824Z
TRANSP:TRANSPARENT
DTSTART:20260121T080000Z
DTEND:20260121T080000Z
STATUS:CONFIRMED
SUMMARY:YÖKDİL Yükseköğretim Kurumları Yabancı Dil Sınavı 2026-Y
 ÖKDİL/1 Başvuru Başlangıç
END:VEVENT
BEGIN:VEVENT
UID:45a10b3d-5496-4041-d6e3-08de9fecec0c
DTSTAMP:20260421T212824Z
TRANSP:TRANSPARENT
DTSTART:20260129T205900Z
DTEND:20260129T205900Z
STATUS:CONFIRMED
SUMMARY:YÖKDİL Yükseköğretim Kurumları Yabancı Dil Sınavı 2026-Y
 ÖKDİL/1 Başvuru Bitiş
END:VEVENT
BEGIN:VEVENT
UID:3dbb0f64-4d3d-4d3d-d6e4-08de9fecec0c
DTSTAMP:20260421T212824Z
TRANSP:TRANSPARENT
DTSTART:20260203T210000Z
DTEND:20260203T210000Z
STATUS:CONFIRMED
SUMMARY:YÖKDİL Yükseköğretim Kurumları Yabancı Dil Sınavı 2026-Y
 ÖKDİL/1 Geç Başvuru Başlangıç
END:VEVENT
BEGIN:VEVENT
UID:d85604f0-4c50-4dd5-d6e5-08de9fecec0c
DTSTAMP:20260421T212824Z
TRANSP:TRANSPARENT
DTSTART:20260204T205900Z
DTEND:20260204T205900Z
STATUS:CONFIRMED
SUMMARY:YÖKDİL Yükseköğretim Kurumları Yabancı Dil Sınavı 2026-Y
 ÖKDİL/1 Geç Başvuru Bitiş
END:VEVENT
BEGIN:VEVENT
UID:18e93fc7-3614-4905-d6e6-08de9fecec0c
DTSTAMP:20260421T212824Z
TRANSP:TRANSPARENT
DTSTART:20260317T210000Z
DTEND:20260317T210000Z
STATUS:CONFIRMED
SUMMARY:YÖKDİL Yükseköğretim Kurumları Yabancı Dil Sınavı 2026-Y
 ÖKDİL/1 Sonuç
END:VEVENT
BEGIN:VEVENT
UID:b97bafe1-b245-4b1e-d6e7-08de9fecec0c
DTSTAMP:20260421T212824Z
TRANSP:TRANSPARENT
DTSTART:20260801T210000Z
DTEND:20260801T210000Z
STATUS:CONFIRMED
SUMMARY:YÖKDİL Yükseköğretim Kurumları Yabancı Dil Sınavı 2026-Y
 ÖKDİL/2 Sınav
END:VEVENT
BEGIN:VEVENT
UID:07f9d230-35be-4e31-d6e8-08de9fecec0c
DTSTAMP:20260421T212824Z
TRANSP:TRANSPARENT
DTSTART:20260615T210000Z
DTEND:20260615T210000Z
STATUS:CONFIRMED
SUMMARY:YÖKDİL Yükseköğretim Kurumları Yabancı Dil Sınavı 2026-Y
 ÖKDİL/2 Başvuru Başlangıç
END:VEVENT
BEGIN:VEVENT
UID:022f8c96-a704-4a2d-d6e9-08de9fecec0c
DTSTAMP:20260421T212824Z
TRANSP:TRANSPARENT
DTSTART:20260623T210000Z
DTEND:20260623T210000Z
STATUS:CONFIRMED
SUMMARY:YÖKDİL Yükseköğretim Kurumları Yabancı Dil Sınavı 2026-Y
 ÖKDİL/2 Başvuru Bitiş
END:VEVENT
BEGIN:VEVENT
UID:87e5ab1e-f80d-4fc1-d6ea-08de9fecec0c
DTSTAMP:20260421T212824Z
TRANSP:TRANSPARENT
DTSTART:20260629T210000Z
DTEND:20260629T210000Z
STATUS:CONFIRMED
SUMMARY:YÖKDİL Yükseköğretim Kurumları Yabancı Dil Sınavı 2026-Y
 ÖKDİL/2 Geç Başvuru Başlangıç
END:VEVENT
BEGIN:VEVENT
UID:a84d40ed-2fe4-446c-d6eb-08de9fecec0c
DTSTAMP:20260421T212824Z
TRANSP:TRANSPARENT
DTSTART:20260630T205900Z
DTEND:20260630T205900Z
STATUS:CONFIRMED
SUMMARY:YÖKDİL Yükseköğretim Kurumları Yabancı Dil Sınavı 2026-Y
 ÖKDİL/2 Geç Başvuru Bitiş
END:VEVENT
BEGIN:VEVENT
UID:cf6f7105-5fe5-4f78-d6ec-08de9fecec0c
DTSTAMP:20260421T212824Z
TRANSP:TRANSPARENT
DTSTART:20260820T210000Z
DTEND:20260820T210000Z
STATUS:CONFIRMED
SUMMARY:YÖKDİL Yükseköğretim Kurumları Yabancı Dil Sınavı 2026-Y
 ÖKDİL/2 Sonuç
END:VEVENT
END:VCALENDAR
