BEGIN:VCALENDAR
VERSION:2.0
PRODID:itakvim.com
CALSCALE:GREGORIAN
METHOD:PUBLISH
UID:nossercuohz
X-WR-CALNAME:Sınav Uygulama Takvimi
X-ITAKVIM-LANGUAGE:tr
X-ORIGINAL-URL:itakvim.com
REFRESH-INTERVAL;VALUE=DURATION:PT1H
X-ITAKVIM-REGION:TR
X-Robots-Tag:noindex
X-PUBLISHED-TTL:PT1H
BEGIN:VEVENT
UID:a6d52045-ef7e-4bf1-caeb-08de73a773d0
DTSTAMP:20260224T132016Z
TRANSP:TRANSPARENT
DTSTART:20260228T210000Z
DTEND:20260228T210000Z
STATUS:CONFIRMED
SUMMARY:Açık Öğretim Kurumları II. Dönem Sınavı 2025-2026 AÖO-A
 ÖL-AÖİHL-MAÖL/2 E-sınav Başlangıç
DESCRIPTION:Mart ayı boyunca MEB tarafından belirlenen tarihlerde gerç
 ekleştirilecektir.
END:VEVENT
BEGIN:VEVENT
UID:93176d5c-ce15-4ec4-caec-08de73a773d0
DTSTAMP:20260224T132107Z
TRANSP:TRANSPARENT
DTSTART:20260329T210000Z
DTEND:20260329T210000Z
STATUS:CONFIRMED
SUMMARY:7 TIMSS 2027 Pilot Uygulama - Bilgisayar Tabanlı Değerlendirme 
 Başlangıç
END:VEVENT
BEGIN:VEVENT
UID:a0844dd6-3857-4dee-caed-08de73a773d0
DTSTAMP:20260224T132125Z
TRANSP:TRANSPARENT
DTSTART:20260423T210000Z
DTEND:20260423T210000Z
STATUS:CONFIRMED
SUMMARY:7 TIMSS 2027 Pilot Uygulama - Bilgisayar Tabanlı Değerlendirme 
 Bitiş
END:VEVENT
BEGIN:VEVENT
UID:514c5e1c-a2d9-467b-caee-08de73a773d0
DTSTAMP:20260224T132309Z
TRANSP:TRANSPARENT
DTSTART:20260406T210000Z
DTEND:20260406T210000Z
STATUS:CONFIRMED
SUMMARY:2025-2026 Eğitim-Öğretim Yılı II. Dönem Ülke Geneli Ortak 
 I. Yazılı Sınavlar - 6. Sınıf Türkçe
END:VEVENT
BEGIN:VEVENT
UID:5569ca04-3466-4b05-caef-08de73a773d0
DTSTAMP:20260224T132324Z
TRANSP:TRANSPARENT
DTSTART:20260407T210000Z
DTEND:20260407T210000Z
STATUS:CONFIRMED
SUMMARY:2025-2026 Eğitim-Öğretim Yılı II. Dönem Ülke Geneli Ortak 
 I. Yazılı Sınavlar - 6. Sınıf Matematik
END:VEVENT
BEGIN:VEVENT
UID:4842befe-922a-421f-caf0-08de73a773d0
DTSTAMP:20260224T132353Z
TRANSP:TRANSPARENT
DTSTART:20260407T210000Z
DTEND:20260407T210000Z
STATUS:CONFIRMED
SUMMARY:2025-2026 Eğitim-Öğretim Yılı II. Dönem Ülke Geneli Ortak 
 I. Yazılı Sınavlar - 8. Sınıf Matematik
END:VEVENT
BEGIN:VEVENT
UID:503fc978-a887-49b6-caf1-08de73a773d0
DTSTAMP:20260224T132431Z
TRANSP:TRANSPARENT
DTSTART:20260408T210000Z
DTEND:20260408T210000Z
STATUS:CONFIRMED
SUMMARY:2025-2026 Eğitim-Öğretim Yılı II. Dönem Ülke Geneli Ortak 
 I. Yazılı Sınavlar - 10. Sınıf Matematik
END:VEVENT
BEGIN:VEVENT
UID:390a7356-560e-43d2-caf2-08de73a773d0
DTSTAMP:20260224T132501Z
TRANSP:TRANSPARENT
DTSTART:20260409T210000Z
DTEND:20260409T210000Z
STATUS:CONFIRMED
SUMMARY:2025-2026 Eğitim-Öğretim Yılı II. Dönem Ülke Geneli Ortak 
 I. Yazılı Sınavlar - 10. Sınıf Türk Dili ve Edebiyatı
END:VEVENT
BEGIN:VEVENT
UID:0366609b-5073-4ea9-caf3-08de73a773d0
DTSTAMP:20260224T132624Z
TRANSP:TRANSPARENT
DTSTART:20260412T210000Z
DTEND:20260412T210000Z
STATUS:CONFIRMED
SUMMARY:Dijital Becerileri İzleme Araştırması 2026 Uygulaması - Bilg
 isayar Destekli Değerlendirme Başlangıç
END:VEVENT
BEGIN:VEVENT
UID:43bbcbb0-3ed9-4cb6-caf4-08de73a773d0
DTSTAMP:20260224T132633Z
TRANSP:TRANSPARENT
DTSTART:20260514T210000Z
DTEND:20260514T210000Z
STATUS:CONFIRMED
SUMMARY:Dijital Becerileri İzleme Araştırması 2026 Uygulaması - Bilg
 isayar Destekli Değerlendirme Bitiş
END:VEVENT
BEGIN:VEVENT
UID:84ccff17-8ec9-429d-caf6-08de73a773d0
DTSTAMP:20260224T132801Z
TRANSP:TRANSPARENT
DTSTART:20260412T210000Z
DTEND:20260412T210000Z
STATUS:CONFIRMED
SUMMARY:ABİDE 2026 Uygulaması - Bilgisayar Destekli Değerlendirme Baş
 langıç
END:VEVENT
BEGIN:VEVENT
UID:9f02f8f5-1078-41fd-caf7-08de73a773d0
DTSTAMP:20260224T132840Z
TRANSP:TRANSPARENT
DTSTART:20260514T210000Z
DTEND:20260514T210000Z
STATUS:CONFIRMED
SUMMARY:ABİDE 2026 Uygulaması - Bilgisayar Destekli Değerlendirme Biti
 ş
END:VEVENT
BEGIN:VEVENT
UID:53f7484e-0df1-4745-caf8-08de73a773d0
DTSTAMP:20260224T132926Z
TRANSP:TRANSPARENT
DTSTART:20260412T210000Z
DTEND:20260412T210000Z
STATUS:CONFIRMED
SUMMARY:PISA 2025 Gelişim ve İzleme Araştırması - Bilgisayar Destekl
 i Değerlendirme Başlangıç
END:VEVENT
BEGIN:VEVENT
UID:5b15672a-3d72-4054-caf9-08de73a773d0
DTSTAMP:20260224T133000Z
TRANSP:TRANSPARENT
DTSTART:20260514T210000Z
DTEND:20260514T210000Z
STATUS:CONFIRMED
SUMMARY:PISA 2025 Gelişim ve İzleme Araştırması- Bilgisayar Destekli
  Değerlendirme Bitiş
END:VEVENT
BEGIN:VEVENT
UID:150aa716-7251-4abd-cafa-08de73a773d0
DTSTAMP:20260224T133117Z
TRANSP:TRANSPARENT
DTSTART:20260412T210000Z
DTEND:20260412T210000Z
STATUS:CONFIRMED
SUMMARY:Dört Beceride Türkçe Dil Sınavı 2026 Uygulaması - E-sınav 
 Başlangıç
END:VEVENT
BEGIN:VEVENT
UID:30f28786-35e9-4716-cafb-08de73a773d0
DTSTAMP:20260224T133129Z
TRANSP:TRANSPARENT
DTSTART:20260521T210000Z
DTEND:20260521T210000Z
STATUS:CONFIRMED
SUMMARY:Dört Beceride Türkçe Dil Sınavı 2026 Uygulaması - E-sınav 
 Bitiş
END:VEVENT
BEGIN:VEVENT
UID:22f18f4e-9ad7-4907-cafc-08de73a773d0
DTSTAMP:20260224T133547Z
TRANSP:TRANSPARENT
DTSTART:20260313T210000Z
DTEND:20260314T210000Z
STATUS:CONFIRMED
SUMMARY:Açık Öğretim Kurumları II. Dönem Sınavı 2025-2026 AÖO-A
 ÖL-AÖİHL-MAÖL/2 Yazılı Sınav
END:VEVENT
BEGIN:VEVENT
UID:119fc9ce-2732-4bd6-cafd-08de73a773d0
DTSTAMP:20260224T133751Z
TRANSP:TRANSPARENT
DTSTART:20260419T210000Z
DTEND:20260419T210000Z
STATUS:CONFIRMED
SUMMARY:Mesleki Eğitimde Yetkinlikleri İzleme Araştırması (Ön Pilot
  Uygulama) - E-sınav/Uygulama Sınavı Başlangıç
END:VEVENT
BEGIN:VEVENT
UID:06bc38c5-90b9-4aeb-cafe-08de73a773d0
DTSTAMP:20260224T133800Z
TRANSP:TRANSPARENT
DTSTART:20260521T210000Z
DTEND:20260521T210000Z
STATUS:CONFIRMED
SUMMARY:Mesleki Eğitimde Yetkinlikleri İzleme Araştırması (Ön Pilot
  Uygulama) - E-sınav/Uygulama Sınavı Bitiş
END:VEVENT
BEGIN:VEVENT
UID:73f762ae-0b39-465b-caff-08de73a773d0
DTSTAMP:20260224T134118Z
TRANSP:TRANSPARENT
DTSTART:20260426T070000Z
DTEND:20260426T084000Z
STATUS:CONFIRMED
SUMMARY:İlköğretim ve Ortaöğretim Kurumları Bursluluk Sınavı
DESCRIPTION:5\, 6\, 7\, 8\, 9\, 10\, 11. Sınıflar ve Hazırlık Sınıf
 ı için geçerlidir.
END:VEVENT
BEGIN:VEVENT
UID:eb855645-bba2-482f-cb00-08de73a773d0
DTSTAMP:20260224T134202Z
TRANSP:TRANSPARENT
DTSTART:20260426T210000Z
DTEND:20260426T210000Z
STATUS:CONFIRMED
SUMMARY:Okul Tabanlı İzleme Araştırması 2026 Uygulaması - Yazılı 
 Sınav Başlangıç
END:VEVENT
BEGIN:VEVENT
UID:18be8880-4335-4023-cb01-08de73a773d0
DTSTAMP:20260224T134219Z
TRANSP:TRANSPARENT
DTSTART:20260514T210000Z
DTEND:20260514T210000Z
STATUS:CONFIRMED
SUMMARY:Okul Tabanlı İzleme Araştırması 2026 Uygulaması - Yazılı 
 Sınav Bitiş
END:VEVENT
BEGIN:VEVENT
UID:fc663bfb-fa76-47c8-cb02-08de73a773d0
DTSTAMP:20260224T134400Z
TRANSP:TRANSPARENT
DTSTART:20260601T210000Z
DTEND:20260601T210000Z
STATUS:CONFIRMED
SUMMARY:2025-2026 Eğitim-Öğretim Yılı II. Dönem Ülke Geneli Ortak 
 II. Yazılı Sınavlar - 7. Sınıf Matematik
END:VEVENT
BEGIN:VEVENT
UID:d8c8bb2c-ffe9-43e8-cb03-08de73a773d0
DTSTAMP:20260224T134408Z
TRANSP:TRANSPARENT
DTSTART:20260602T210000Z
DTEND:20260602T210000Z
STATUS:CONFIRMED
SUMMARY:2025-2026 Eğitim-Öğretim Yılı II. Dönem Ülke Geneli Ortak 
 II. Yazılı Sınavlar - 9. Sınıf Türk Dili ve Edebiyatı
END:VEVENT
BEGIN:VEVENT
UID:58b44630-e433-4a4e-cb04-08de73a773d0
DTSTAMP:20260224T134957Z
TRANSP:TRANSPARENT
DTSTART:20260614T063000Z
DTEND:20260614T095000Z
STATUS:CONFIRMED
SUMMARY:Sınavla Öğrenci Alacak Ortaöğretim Kurumlarına İlişkin Me
 rkezî Sınav (8. Sınıflar) (LGS)
DESCRIPTION:Sözel Oturum: 09.30 Başlangıç - 10.45 Bitiş\nSayısal Ot
 urum: 11.30 Başlangıç - 12.50 Bitiş
END:VEVENT
BEGIN:VEVENT
UID:1733cd59-e880-4eeb-cb05-08de73a773d0
DTSTAMP:20260224T135022Z
TRANSP:TRANSPARENT
DTSTART:20260630T210000Z
DTEND:20260630T210000Z
STATUS:CONFIRMED
SUMMARY:Açık Öğretim Kurumları II. Dönem Sınavı 2025-2026 AÖO-A
 ÖL-AÖİHL-MAÖL/3 E-sınav Başlangıç
DESCRIPTION:Temmuz ayı boyunca MEB tarafından belirlenen tarihlerde ger
 çekleştirilecektir.
END:VEVENT
BEGIN:VEVENT
UID:a33579e9-6a67-40ad-cb06-08de73a773d0
DTSTAMP:20260224T135119Z
TRANSP:TRANSPARENT
DTSTART:20260717T210000Z
DTEND:20260718T210000Z
STATUS:CONFIRMED
SUMMARY:Açık Öğretim Kurumları II. Dönem Sınavı 2025-2026 AÖO-A
 ÖL-AÖİHL-MAÖL/3 Yazılı Sınav
END:VEVENT
BEGIN:VEVENT
UID:be2578f2-ebd8-4f1b-cb07-08de73a773d0
DTSTAMP:20260224T135253Z
TRANSP:TRANSPARENT
DTSTART:20261130T210000Z
DTEND:20261130T210000Z
STATUS:CONFIRMED
SUMMARY:Açık Öğretim Kurumları I. Dönem Sınavı 2026-2027 AÖO-AÖ
 L-AÖİHL-MAÖL/1 E-sınav Başlangıç
DESCRIPTION:Aralık ayı boyunca MEB tarafından belirlenen tarihlerde ge
 rçekleştirilecektir.
END:VEVENT
BEGIN:VEVENT
UID:095f5935-014b-402b-cb08-08de73a773d0
DTSTAMP:20260224T135535Z
TRANSP:TRANSPARENT
DTSTART:20261218T210000Z
DTEND:20261218T210000Z
STATUS:CONFIRMED
SUMMARY:Açık Öğretim Kurumları I. Dönem Sınavı 2026-2027 AÖO-AÖ
 L-AÖİHL-MAÖL/1 Yazılı Sınav
DESCRIPTION:Aralık ayı boyunca MEB tarafından belirlenen tarihlerde ge
 rçekleştirilecektir.
END:VEVENT
END:VCALENDAR
