BEGIN:VCALENDAR
VERSION:2.0
PRODID:itakvim.com
CALSCALE:GREGORIAN
METHOD:PUBLISH
UID:nswniwyncfu
X-WR-CALNAME:BKUBTS Sınav Takvimi
X-ITAKVIM-LANGUAGE:tr
X-ORIGINAL-URL:itakvim.com
REFRESH-INTERVAL;VALUE=DURATION:PT1H
X-ITAKVIM-REGION:TR
X-Robots-Tag:noindex
X-PUBLISHED-TTL:PT1H
BEGIN:VEVENT
UID:560357ad-b8fe-46bf-4f80-08de9f183112
DTSTAMP:20260420T200538Z
TRANSP:TRANSPARENT
DTSTART:20261017T210000Z
DTEND:20261017T210000Z
STATUS:CONFIRMED
SUMMARY:BKUBTS Tarım ve Orman Bakanlığı Bitki Koruma Ürünleri Bayi 
 ve Toptancılık Yazılı Sınavı 2026-BKUBTS Sınav
END:VEVENT
BEGIN:VEVENT
UID:d2e20589-637e-4a23-4f81-08de9f183112
DTSTAMP:20260420T200538Z
TRANSP:TRANSPARENT
DTSTART:20260901T210000Z
DTEND:20260901T210000Z
STATUS:CONFIRMED
SUMMARY:BKUBTS Tarım ve Orman Bakanlığı Bitki Koruma Ürünleri Bayi 
 ve Toptancılık Yazılı Sınavı 2026-BKUBTS Başvuru Başlangıç
END:VEVENT
BEGIN:VEVENT
UID:81476778-bd68-4dd7-4f82-08de9f183112
DTSTAMP:20260420T200538Z
TRANSP:TRANSPARENT
DTSTART:20260909T210000Z
DTEND:20260909T210000Z
STATUS:CONFIRMED
SUMMARY:BKUBTS Tarım ve Orman Bakanlığı Bitki Koruma Ürünleri Bayi 
 ve Toptancılık Yazılı Sınavı 2026-BKUBTS Başvuru Bitiş
END:VEVENT
BEGIN:VEVENT
UID:5c260233-9286-4274-4f83-08de9f183112
DTSTAMP:20260420T200538Z
TRANSP:TRANSPARENT
DTSTART:20260916T210000Z
DTEND:20260916T210000Z
STATUS:CONFIRMED
SUMMARY:BKUBTS Tarım ve Orman Bakanlığı Bitki Koruma Ürünleri Bayi 
 ve Toptancılık Yazılı Sınavı 2026-BKUBTS Geç Başvuru Başlangı
 ç
END:VEVENT
BEGIN:VEVENT
UID:78ea7a6b-89e0-48db-4f84-08de9f183112
DTSTAMP:20260420T200538Z
TRANSP:TRANSPARENT
DTSTART:20260917T205900Z
DTEND:20260917T205900Z
STATUS:CONFIRMED
SUMMARY:BKUBTS Tarım ve Orman Bakanlığı Bitki Koruma Ürünleri Bayi 
 ve Toptancılık Yazılı Sınavı 2026-BKUBTS Geç Başvuru Bitiş
END:VEVENT
BEGIN:VEVENT
UID:449b5fb2-34b2-46b4-4f85-08de9f183112
DTSTAMP:20260420T200538Z
TRANSP:TRANSPARENT
DTSTART:20261110T210000Z
DTEND:20261110T210000Z
STATUS:CONFIRMED
SUMMARY:BKUBTS Tarım ve Orman Bakanlığı Bitki Koruma Ürünleri Bayi 
 ve Toptancılık Yazılı Sınavı 2026-BKUBTS Sonuç
END:VEVENT
END:VCALENDAR
