BEGIN:VCALENDAR
VERSION:2.0
PRODID:itakvim.com
CALSCALE:GREGORIAN
METHOD:PUBLISH
UID:nw7c7r9hnd9
X-WR-CALNAME:Antalya Royal Segınus Hotel Takvimi
X-ITAKVIM-LANGUAGE:tr
X-ORIGINAL-URL:itakvim.com
REFRESH-INTERVAL;VALUE=DURATION:PT1H
X-ITAKVIM-REGION:TR
X-Robots-Tag:noindex
X-PUBLISHED-TTL:PT1H
BEGIN:VEVENT
UID:da76ae7d-2839-489a-abf5-08de8dc98ad6
DTSTAMP:20260329T193014Z
TRANSP:TRANSPARENT
DTSTART:20260326T060000Z
DTEND:20260328T150000Z
STATUS:CONFIRMED
SUMMARY:3.Oyfest Oyuncak Ve Çocuk Gereçleri Fuarı
DESCRIPTION:Oyfest Fuarcılık Ve Organizasyon Limited Şirketi tarafınd
 an düzenlenen bebek\, çocuk ve yetişkin oyuncakları\, hobi ve yaşam
  tarzı ürünleri konulu fuarda görüşmek üzere: \n\nWeb:oyfest.com.
 tr\nE-Posta: fatos@oyfest.com.tr
LOCATION:Royal Segınus Hotel
BEGIN:VALARM
ACTION:DISPLAY
DESCRIPTION:3.Oyfest Oyuncak Ve Çocuk Gereçleri Fuarı
TRIGGER:-PT24H
END:VALARM
END:VEVENT
END:VCALENDAR
