BEGIN:VCALENDAR
VERSION:2.0
PRODID:itakvim.com
CALSCALE:GREGORIAN
METHOD:PUBLISH
UID:nx6i2rwawtr
X-WR-CALNAME:Manisa Büyükşehir Belediyesi Fuar Merkezi Takvimi
X-ITAKVIM-LANGUAGE:tr
X-ORIGINAL-URL:itakvim.com
REFRESH-INTERVAL;VALUE=DURATION:PT1H
X-ITAKVIM-REGION:TR
X-Robots-Tag:noindex
X-PUBLISHED-TTL:PT1H
BEGIN:VEVENT
UID:ff57efb3-a55a-468e-532b-08de9f183112
DTSTAMP:20260420T200816Z
TRANSP:TRANSPARENT
DTSTART:20260421T060000Z
DTEND:20260426T150000Z
STATUS:CONFIRMED
SUMMARY:32.Mesir Sanayi Ve Ticaret Fuarı
DESCRIPTION:Tactfaır Organizasyon Anonim Şirketi tarafından düzenlene
 n sanayi ve ticaret ürünleri hizmet grupları konulu fuarda görüşme
 k üzere: \n\nWeb:www.tactfair.com.tr\nE-Posta: didem@snsfuarcilik.com.t
 r
LOCATION:Manisa Büyükşehir Belediyesi Fuar Merkezi
BEGIN:VALARM
ACTION:DISPLAY
DESCRIPTION:32.Mesir Sanayi Ve Ticaret Fuarı
TRIGGER:-PT24H
END:VALARM
END:VEVENT
BEGIN:VEVENT
UID:2808eb55-06ba-4f90-532c-08de9f183112
DTSTAMP:20260420T200816Z
TRANSP:TRANSPARENT
DTSTART:20261105T060000Z
DTEND:20261108T150000Z
STATUS:CONFIRMED
SUMMARY:Manisa 20.Uluslararası Tarım Gıda Ve Hayvancılık Fuarı
DESCRIPTION:Tactfaır Organizasyon Anonim Şirketi tarafından düzenlene
 n tarım\, gıda\, hayvancılık konulu fuarda görüşmek üzere: \n\nW
 eb:www.tactfair.com\nE-Posta: didem@snsfuarcilik.com.tr
LOCATION:Manisa Büyükşehir Belediyesi Fuar Merkezi
BEGIN:VALARM
ACTION:DISPLAY
DESCRIPTION:Manisa 20.Uluslararası Tarım Gıda Ve Hayvancılık Fuarı
TRIGGER:-PT24H
END:VALARM
END:VEVENT
END:VCALENDAR
