BEGIN:VCALENDAR
VERSION:2.0
PRODID:itakvim.com
CALSCALE:GREGORIAN
METHOD:PUBLISH
UID:o07naqjo869
X-WR-CALNAME:BİM A.Ş. Finansal Takvimi
X-ITAKVIM-LANGUAGE:tr
X-ORIGINAL-URL:itakvim.com
REFRESH-INTERVAL;VALUE=DURATION:PT1H
X-ITAKVIM-REGION:TR
X-Robots-Tag:noindex
X-PUBLISHED-TTL:PT1H
BEGIN:VEVENT
UID:ff134555-8ee5-40c7-ad38-08de7716ebc2
DTSTAMP:20260228T221545Z
TRANSP:TRANSPARENT
DTSTART:20251019T210000Z
DTEND:20251019T210000Z
STATUS:CONFIRMED
SUMMARY:2025 3. Çeyrek Sessiz Dönem Başlangıcı
END:VEVENT
BEGIN:VEVENT
UID:f29575d9-84de-4b0c-ad39-08de7716ebc2
DTSTAMP:20260228T221545Z
TRANSP:TRANSPARENT
DTSTART:20251109T210000Z
DTEND:20251109T210000Z
STATUS:CONFIRMED
SUMMARY:2025 3. Çeyrek Finansal Sonuçlarının Açıklanması
END:VEVENT
BEGIN:VEVENT
UID:93158a07-a533-4602-ad3a-08de7716ebc2
DTSTAMP:20260228T221545Z
TRANSP:TRANSPARENT
DTSTART:20251109T210000Z
DTEND:20251109T210000Z
STATUS:CONFIRMED
SUMMARY:2025 3. Çeyrek Sessiz Dönem Sonu
END:VEVENT
BEGIN:VEVENT
UID:334cfeca-a8ea-4248-ad3b-08de7716ebc2
DTSTAMP:20260228T221545Z
TRANSP:TRANSPARENT
DTSTART:20260310T210000Z
DTEND:20260310T210000Z
STATUS:CONFIRMED
SUMMARY:2025 4. Çeyrek Finansal Sonuçlarının Açıklanması
END:VEVENT
END:VCALENDAR
