BEGIN:VCALENDAR
VERSION:2.0
PRODID:itakvim.com
CALSCALE:GREGORIAN
METHOD:PUBLISH
UID:o102dlijl1t
X-WR-CALNAME:Beşiktaş A.Ş.
X-ITAKVIM-LANGUAGE:tr
X-ORIGINAL-URL:itakvim.com
REFRESH-INTERVAL;VALUE=DURATION:PT1H
X-ITAKVIM-REGION:TR
X-Robots-Tag:noindex
X-PUBLISHED-TTL:PT1H
BEGIN:VEVENT
UID:c66c69ae-7e7e-449c-dd46-08de9c03c470
DTSTAMP:20260416T220746Z
TRANSP:TRANSPARENT
DTSTART:20260419T140000Z
DTEND:20260419T140000Z
STATUS:CONFIRMED
SUMMARY:SAMSUNSPOR A.Ş. - BEŞİKTAŞ A.Ş.
LOCATION:SAMSUN YENİ 19 MAYIS - SAMSUN
BEGIN:VALARM
ACTION:DISPLAY
DESCRIPTION:SAMSUNSPOR A.Ş. - BEŞİKTAŞ A.Ş.
TRIGGER:PT0S
END:VALARM
END:VEVENT
BEGIN:VEVENT
UID:4d998cc0-40fd-417a-dd47-08de9c03c470
DTSTAMP:20260416T220746Z
TRANSP:TRANSPARENT
DTSTART:20260427T170000Z
DTEND:20260427T170000Z
STATUS:CONFIRMED
SUMMARY:BEŞİKTAŞ A.Ş. - MISIRLI.COM.TR FATİH KARAGÜMRÜK
LOCATION:BEŞİKTAŞ PARK - İSTANBUL
BEGIN:VALARM
ACTION:DISPLAY
DESCRIPTION:BEŞİKTAŞ A.Ş. - MISIRLI.COM.TR FATİH KARAGÜMRÜK
TRIGGER:PT0S
END:VALARM
END:VEVENT
BEGIN:VEVENT
UID:360bd2ac-6627-4428-dd48-08de9c03c470
DTSTAMP:20260416T220746Z
TRANSP:TRANSPARENT
DTSTART:20260502T210000Z
DTEND:20260502T210000Z
STATUS:CONFIRMED
SUMMARY:GAZİANTEP FUTBOL KULÜBÜ A.Ş. - BEŞİKTAŞ A.Ş.
LOCATION:GAZİANTEP STADYUMU - GAZİANTEP
BEGIN:VALARM
ACTION:DISPLAY
DESCRIPTION:GAZİANTEP FUTBOL KULÜBÜ A.Ş. - BEŞİKTAŞ A.Ş.
TRIGGER:PT0S
END:VALARM
END:VEVENT
BEGIN:VEVENT
UID:1ad53e6a-a9f3-4c3a-dd49-08de9c03c470
DTSTAMP:20260416T220746Z
TRANSP:TRANSPARENT
DTSTART:20260509T210000Z
DTEND:20260509T210000Z
STATUS:CONFIRMED
SUMMARY:BEŞİKTAŞ A.Ş. - TRABZONSPOR A.Ş.
LOCATION:BEŞİKTAŞ PARK - İSTANBUL
BEGIN:VALARM
ACTION:DISPLAY
DESCRIPTION:BEŞİKTAŞ A.Ş. - TRABZONSPOR A.Ş.
TRIGGER:PT0S
END:VALARM
END:VEVENT
BEGIN:VEVENT
UID:ec4e80af-410e-4c2f-dd4a-08de9c03c470
DTSTAMP:20260416T220746Z
TRANSP:TRANSPARENT
DTSTART:20260516T210000Z
DTEND:20260516T210000Z
STATUS:CONFIRMED
SUMMARY:ÇAYKUR RİZESPOR A.Ş. - BEŞİKTAŞ A.Ş.
LOCATION:ÇAYKUR DİDİ
BEGIN:VALARM
ACTION:DISPLAY
DESCRIPTION:ÇAYKUR RİZESPOR A.Ş. - BEŞİKTAŞ A.Ş.
TRIGGER:PT0S
END:VALARM
END:VEVENT
END:VCALENDAR
