BEGIN:VCALENDAR
VERSION:2.0
PRODID:itakvim.com
CALSCALE:GREGORIAN
METHOD:PUBLISH
UID:o2b8zdoejnw
X-WR-CALNAME:Swissotel Büyük Efes İzmir Takvimi
X-ITAKVIM-LANGUAGE:tr
X-ORIGINAL-URL:itakvim.com
REFRESH-INTERVAL;VALUE=DURATION:PT1H
X-ITAKVIM-REGION:TR
X-Robots-Tag:noindex
X-PUBLISHED-TTL:PT1H
BEGIN:VEVENT
UID:3897cdfe-3445-4411-532d-08de9f183112
DTSTAMP:20260420T200817Z
TRANSP:TRANSPARENT
DTSTART:20261023T060000Z
DTEND:20261023T150000Z
STATUS:CONFIRMED
SUMMARY:Akare Yurtdışı Eğitim Fuarları
DESCRIPTION:Akare Fuarcılık Anonim Şirketi tarafından düzenlenen yur
 tdışı eğitim alternatifleri ve İmkanları konulu fuarda görüşmek
  üzere: \n\nWeb:www.akare.com.tr\nE-Posta: canan@akare.com.tr
LOCATION:Swissotel Büyük Efes İzmir
BEGIN:VALARM
ACTION:DISPLAY
DESCRIPTION:Akare Yurtdışı Eğitim Fuarları
TRIGGER:-PT24H
END:VALARM
END:VEVENT
END:VCALENDAR
