BEGIN:VCALENDAR
VERSION:2.0
PRODID:itakvim.com
CALSCALE:GREGORIAN
METHOD:PUBLISH
UID:o8s0s3xa1ic
X-WR-CALNAME:Kirklareli Lüleburgaz Belediyesi Kapalı Pazar Semt Ve Fuar Merkezi Takvimi
X-ITAKVIM-LANGUAGE:tr
X-ORIGINAL-URL:itakvim.com
REFRESH-INTERVAL;VALUE=DURATION:PT1H
X-ITAKVIM-REGION:TR
X-Robots-Tag:noindex
X-PUBLISHED-TTL:PT1H
BEGIN:VEVENT
UID:a3080027-faf3-4fd5-72d3-08de6facbbe9
DTSTAMP:20260219T114800Z
TRANSP:TRANSPARENT
DTSTART:20260506T060000Z
DTEND:20260509T150000Z
STATUS:CONFIRMED
SUMMARY:14. Trakya Hayvancılık, Tarım, Süt Ürünleri, Tohum Ve Gıda
  Fuarı
DESCRIPTION:Renkli Fuarcılık Ltd. Şti. tarafından düzenlenen tarım\
 , hayvancılık\, gıda\, tohum\, meyvecilik\, sulama ve seracılık tek
 nolojileri\, traktör ve ekipmanları\, depolama sistemleri\, soğutma\,
  havalandırma konulu fuarda görüşmek üzere: \n\nWeb:www.renklyfuar.
 com\nE-Posta: info@renklyfuar.com
LOCATION:Lüleburgaz Belediyesi Kapalı Pazar Semt Ve Fuar Merkezi
END:VEVENT
BEGIN:VEVENT
UID:986ee826-ce62-44ac-72d4-08de6facbbe9
DTSTAMP:20260219T114800Z
TRANSP:TRANSPARENT
DTSTART:20260923T060000Z
DTEND:20260926T150000Z
STATUS:CONFIRMED
SUMMARY:21. Trakya Lüleburgaz Tarımtech Tarım, Hayvancılık, Sanayi V
 e Gıda Fuarı
DESCRIPTION:Renkli Fuarcılık Ltd. Şti. tarafından düzenlenen tarım\
 , hayvancılık\,tohum\, meyvecilik\, sulama ve seracılık\, traktör v
 e ekipmanları\, depolama sistemleri\, soğutma\, havalandırma konulu f
 uarda görüşmek üzere: \n\nWeb:www.renklyfuar.com\nE-Posta: info@renk
 lyfuar.com
LOCATION:Lüleburgaz Belediyesi Kapalı Pazar Semt Ve Fuar Merkezi
END:VEVENT
END:VCALENDAR
