BEGIN:VCALENDAR
VERSION:2.0
PRODID:itakvim.com
CALSCALE:GREGORIAN
METHOD:PUBLISH
UID:ofjh6qpe8n4
X-WR-CALNAME:Lisansüstü Akademik Takvimi
X-ITAKVIM-LANGUAGE:tr
X-ORIGINAL-URL:itakvim.com
REFRESH-INTERVAL;VALUE=DURATION:PT1H
X-ITAKVIM-REGION:TR
X-Robots-Tag:noindex
X-PUBLISHED-TTL:PT1H
BEGIN:VEVENT
UID:607c181e-c134-4da9-51fd-08de9f183112
DTSTAMP:20260420T200724Z
TRANSP:TRANSPARENT
DTSTART:20250409T060000Z
DTEND:20250630T140000Z
STATUS:CONFIRMED
SUMMARY:Yüksek Lisans ve Doktora Başvuru Tarihi
END:VEVENT
BEGIN:VEVENT
UID:db590707-7e81-43d6-51fe-08de9f183112
DTSTAMP:20260420T200724Z
TRANSP:TRANSPARENT
DTSTART:20250409T060000Z
DTEND:20250630T140000Z
STATUS:CONFIRMED
SUMMARY:Yüksek Lisans Yatay Geçiş Başvuruları
END:VEVENT
BEGIN:VEVENT
UID:c07bfc75-f782-4f96-51ff-08de9f183112
DTSTAMP:20260420T200724Z
TRANSP:TRANSPARENT
DTSTART:20250702T210000Z
DTEND:20250706T210000Z
STATUS:CONFIRMED
SUMMARY:Mülakat
END:VEVENT
BEGIN:VEVENT
UID:0f68a34a-e998-41e2-5200-08de9f183112
DTSTAMP:20260420T200724Z
TRANSP:TRANSPARENT
DTSTART:20250708T210000Z
DTEND:20250708T210000Z
STATUS:CONFIRMED
SUMMARY:Mülakat Sonuçlarının (Mülakat Komisyonu Tarafından) Öğren
 ci Bilgi Sistemine Son Giriş Tarihi
END:VEVENT
BEGIN:VEVENT
UID:0c8c7e32-552a-4f9d-5201-08de9f183112
DTSTAMP:20260420T200724Z
TRANSP:TRANSPARENT
DTSTART:20250710T210000Z
DTEND:20250710T210000Z
STATUS:CONFIRMED
SUMMARY:Kazananların İlanı
END:VEVENT
BEGIN:VEVENT
UID:b8987619-7187-45a0-5202-08de9f183112
DTSTAMP:20260420T200724Z
TRANSP:TRANSPARENT
DTSTART:20250713T210000Z
DTEND:20250717T210000Z
STATUS:CONFIRMED
SUMMARY:Yeni Kayıt Yaptıracak Uluslararası Öğrencilerin Öğrenim Ü
 cretinin Yatırılması
END:VEVENT
BEGIN:VEVENT
UID:9860ea4a-b86e-4404-5203-08de9f183112
DTSTAMP:20260420T200724Z
TRANSP:TRANSPARENT
DTSTART:20250714T060000Z
DTEND:20250718T140000Z
STATUS:CONFIRMED
SUMMARY:Yeni Alınan Öğrencilerin Kesin Kayıtları (Online)
END:VEVENT
BEGIN:VEVENT
UID:9f310f8a-afa4-4ad4-5204-08de9f183112
DTSTAMP:20260420T200724Z
TRANSP:TRANSPARENT
DTSTART:20250720T210000Z
DTEND:20250720T210000Z
STATUS:CONFIRMED
SUMMARY:Yedekten asile geçen öğrencilerin ilanı
END:VEVENT
BEGIN:VEVENT
UID:57e43a18-6682-4a25-5205-08de9f183112
DTSTAMP:20260420T200724Z
TRANSP:TRANSPARENT
DTSTART:20250722T060000Z
DTEND:20250724T140000Z
STATUS:CONFIRMED
SUMMARY:Yedekten asile geçen öğrencilerin Kesin Kayıtları (Online)
END:VEVENT
BEGIN:VEVENT
UID:3b73ca90-854f-48b8-5206-08de9f183112
DTSTAMP:20260420T200724Z
TRANSP:TRANSPARENT
DTSTART:20250819T210000Z
DTEND:20250819T210000Z
STATUS:CONFIRMED
SUMMARY:Güz Yarıyılı Ders Programlarının İlanı
END:VEVENT
BEGIN:VEVENT
UID:28403d02-455b-46d7-5207-08de9f183112
DTSTAMP:20260420T200724Z
TRANSP:TRANSPARENT
DTSTART:20250907T210000Z
DTEND:20250908T210000Z
STATUS:CONFIRMED
SUMMARY:Asil Listede Olmasına Rağmen Kayıt Yaptıramayan Yaz Öğretim
 i Mezunlarının Kesin Kayıtları (Online)
END:VEVENT
BEGIN:VEVENT
UID:118db775-453b-49e4-5208-08de9f183112
DTSTAMP:20260420T200724Z
TRANSP:TRANSPARENT
DTSTART:20250907T210000Z
DTEND:20250911T210000Z
STATUS:CONFIRMED
SUMMARY:Öğrenci Katkı Payı/Öğrenim Ücretlerinin Yatırılması
END:VEVENT
BEGIN:VEVENT
UID:e6d1c422-125a-42ac-5209-08de9f183112
DTSTAMP:20260420T200724Z
TRANSP:TRANSPARENT
DTSTART:20250911T060000Z
DTEND:20250913T140000Z
STATUS:CONFIRMED
SUMMARY:Boş Kontenjanı Bulunan ve Talep Eden Programlar için Güz Yar
 ıyılı İkinci Başvuru Dönemi
END:VEVENT
BEGIN:VEVENT
UID:e86fb450-48bf-4222-520a-08de9f183112
DTSTAMP:20260420T200724Z
TRANSP:TRANSPARENT
DTSTART:20250915T210000Z
DTEND:20250916T210000Z
STATUS:CONFIRMED
SUMMARY:Güz Yarıyılı İkinci Başvuru için Mülakat Tarihleri
END:VEVENT
BEGIN:VEVENT
UID:c1d3b789-29ed-4757-520b-08de9f183112
DTSTAMP:20260420T200724Z
TRANSP:TRANSPARENT
DTSTART:20250916T070000Z
DTEND:20250919T140000Z
STATUS:CONFIRMED
SUMMARY:Güz Yarıyılı Danışman Onayı ile Web'den Ders Kayıtları (
 Ders-Tez-Yeterlik)
END:VEVENT
BEGIN:VEVENT
UID:c9737908-7489-4c82-520c-08de9f183112
DTSTAMP:20260420T200724Z
TRANSP:TRANSPARENT
DTSTART:20250917T210000Z
DTEND:20250917T210000Z
STATUS:CONFIRMED
SUMMARY:Güz Yarıyılı İkinci Başvuru sonuçlarının (Mülakat Komis
 yonu Tarafından) Öğrenci Bilgi Sistemine Son Giriş Tarihi
END:VEVENT
BEGIN:VEVENT
UID:79140993-9f56-4677-520d-08de9f183112
DTSTAMP:20260420T200724Z
TRANSP:TRANSPARENT
DTSTART:20250918T210000Z
DTEND:20250918T210000Z
STATUS:CONFIRMED
SUMMARY:Güz Yarıyılı İkinci başvuru sonucunu kazananların İlanı
END:VEVENT
BEGIN:VEVENT
UID:15eef6e7-7cdf-4ab4-520e-08de9f183112
DTSTAMP:20260420T200724Z
TRANSP:TRANSPARENT
DTSTART:20250922T060000Z
DTEND:20250923T140000Z
STATUS:CONFIRMED
SUMMARY:Güz Yarıyılı İkinci başvuru sonucu yeni alınan öğrencile
 rin kesin kayıtları (Online)
END:VEVENT
BEGIN:VEVENT
UID:5bf5e7c9-f96c-40e6-520f-08de9f183112
DTSTAMP:20260420T200724Z
TRANSP:TRANSPARENT
DTSTART:20250928T210000Z
DTEND:20250928T210000Z
STATUS:CONFIRMED
SUMMARY:Güz Yarıyılı Başlangıcı
END:VEVENT
BEGIN:VEVENT
UID:1c0e342a-cf20-4117-5210-08de9f183112
DTSTAMP:20260420T200724Z
TRANSP:TRANSPARENT
DTSTART:20250928T210000Z
DTEND:20251016T210000Z
STATUS:CONFIRMED
SUMMARY:Doktora Yeterlik Dersine Kayıtlı Öğrencilerin Yeterlik Sınav
 ına Başvurusu
END:VEVENT
BEGIN:VEVENT
UID:be9e4ea7-d015-4042-5211-08de9f183112
DTSTAMP:20260420T200724Z
TRANSP:TRANSPARENT
DTSTART:20250929T070000Z
DTEND:20251003T140000Z
STATUS:CONFIRMED
SUMMARY:Gecikmeli Kayıt Yenilemesi(Öğrenci Katkı Payını Zamanında 
 Yatırmayan ve/veya Ders Kaydını Zamanında Yaptırmayan Öğrenciler 
 İçin)
END:VEVENT
BEGIN:VEVENT
UID:10031421-c646-4163-5212-08de9f183112
DTSTAMP:20260420T200724Z
TRANSP:TRANSPARENT
DTSTART:20250929T070000Z
DTEND:20251010T140000Z
STATUS:CONFIRMED
SUMMARY:Danışman Onayı ile Ders Planındaki Derslerden Birisini Bırak
 ıp Bir Başka Derse Yazılma
END:VEVENT
BEGIN:VEVENT
UID:51302f7a-22ba-478c-5213-08de9f183112
DTSTAMP:20260420T200724Z
TRANSP:TRANSPARENT
DTSTART:20250930T210000Z
DTEND:20250930T210000Z
STATUS:CONFIRMED
SUMMARY:Lisansüstü öğrencileri için Oryantasyon
END:VEVENT
BEGIN:VEVENT
UID:06bf3ee2-5bb9-47ca-5214-08de9f183112
DTSTAMP:20260420T200724Z
TRANSP:TRANSPARENT
DTSTART:20251005T210000Z
DTEND:20251005T210000Z
STATUS:CONFIRMED
SUMMARY:Kapatılacak Derslerin Bildirilmesi
END:VEVENT
BEGIN:VEVENT
UID:bdc889a3-2fc8-475f-5215-08de9f183112
DTSTAMP:20260420T200724Z
TRANSP:TRANSPARENT
DTSTART:20251005T210000Z
DTEND:20251230T210000Z
STATUS:CONFIRMED
SUMMARY:Doktora Öğrencilerinin Temmuz-Aralık Dönemi Tez Öneri/Tez İ
 zleme Raporlarının Lisansüstü Eğitim Enstitüsüne Teslimi
END:VEVENT
BEGIN:VEVENT
UID:3447aa15-e0c2-49a9-5216-08de9f183112
DTSTAMP:20260420T200724Z
TRANSP:TRANSPARENT
DTSTART:20251012T210000Z
DTEND:20251016T210000Z
STATUS:CONFIRMED
SUMMARY:Yeni Kayıt Yaptıran Uluslararası Öğrencilerin Evrak Asıllar
 ını Teslim Etmesi
END:VEVENT
BEGIN:VEVENT
UID:124494b5-fc6d-424e-5217-08de9f183112
DTSTAMP:20260420T200724Z
TRANSP:TRANSPARENT
DTSTART:20251013T070000Z
DTEND:20251017T140000Z
STATUS:CONFIRMED
SUMMARY:Danışman Onayı ile Bir Dersten Tümüyle Çekilme (Öğrenim B
 elgesinde (T) Harfi ile Gösterilecektir.)
END:VEVENT
BEGIN:VEVENT
UID:78814bb6-6c29-4252-5218-08de9f183112
DTSTAMP:20260420T200724Z
TRANSP:TRANSPARENT
DTSTART:20251130T210000Z
DTEND:20251225T210000Z
STATUS:CONFIRMED
SUMMARY:Doktora  Yeterlik Sınavları
END:VEVENT
BEGIN:VEVENT
UID:8e1d021c-f263-40f4-5219-08de9f183112
DTSTAMP:20260420T200724Z
TRANSP:TRANSPARENT
DTSTART:20251209T210000Z
DTEND:20251209T210000Z
STATUS:CONFIRMED
SUMMARY:Güz Yarıyılı Sınav Programının İlanı
END:VEVENT
BEGIN:VEVENT
UID:d3193ce4-8a44-4720-521a-08de9f183112
DTSTAMP:20260420T200724Z
TRANSP:TRANSPARENT
DTSTART:20260101T210000Z
DTEND:20260101T210000Z
STATUS:CONFIRMED
SUMMARY:Güz Yarıyılı Sonu
END:VEVENT
BEGIN:VEVENT
UID:868ea4eb-74c5-4826-521b-08de9f183112
DTSTAMP:20260420T200724Z
TRANSP:TRANSPARENT
DTSTART:20260104T210000Z
DTEND:20260117T210000Z
STATUS:CONFIRMED
SUMMARY:Güz Yarıyılı Sonu Sınavları
END:VEVENT
BEGIN:VEVENT
UID:6e6d9b73-fc6d-4141-521c-08de9f183112
DTSTAMP:20260420T200724Z
TRANSP:TRANSPARENT
DTSTART:20260124T210000Z
DTEND:20260125T110000Z
STATUS:CONFIRMED
SUMMARY:Güz Yarıyılı Sonu Sınav Notlarının Son Giriş Tarihi
END:VEVENT
BEGIN:VEVENT
UID:bcf12b20-14a8-4675-521d-08de9f183112
DTSTAMP:20260420T200724Z
TRANSP:TRANSPARENT
DTSTART:20260202T210000Z
DTEND:20260202T210000Z
STATUS:CONFIRMED
SUMMARY:Güz Yarıyılı Sonunda Azami Öğrenim Süresi Sona Erecek Lisa
 nsüstü Öğrenciler için Tez Teslimi Son Tarihi
END:VEVENT
BEGIN:VEVENT
UID:d1bcacf1-e3c6-4351-521e-08de9f183112
DTSTAMP:20260420T200724Z
TRANSP:TRANSPARENT
DTSTART:20251110T060000Z
DTEND:20260126T140000Z
STATUS:CONFIRMED
SUMMARY:Yüksek Lisans ve Doktora Başvuru Tarihi
END:VEVENT
BEGIN:VEVENT
UID:1e25966e-d8cb-4a52-521f-08de9f183112
DTSTAMP:20260420T200724Z
TRANSP:TRANSPARENT
DTSTART:20251110T060000Z
DTEND:20260126T140000Z
STATUS:CONFIRMED
SUMMARY:Yatay Geçiş Başvuruları
END:VEVENT
BEGIN:VEVENT
UID:8f7da1fd-63b8-4454-5220-08de9f183112
DTSTAMP:20260420T200724Z
TRANSP:TRANSPARENT
DTSTART:20260111T210000Z
DTEND:20260111T210000Z
STATUS:CONFIRMED
SUMMARY:Bahar Yarıyılı Ders Programlarının İlanı
END:VEVENT
BEGIN:VEVENT
UID:9b4f2229-c647-43f6-5221-08de9f183112
DTSTAMP:20260420T200724Z
TRANSP:TRANSPARENT
DTSTART:20260125T210000Z
DTEND:20260129T210000Z
STATUS:CONFIRMED
SUMMARY:Öğrenci Katkı Paylarının/Öğrenim Ücretlerinin Yatırılma
 sı
END:VEVENT
BEGIN:VEVENT
UID:e5326ace-dd87-4297-5222-08de9f183112
DTSTAMP:20260420T200724Z
TRANSP:TRANSPARENT
DTSTART:20260128T210000Z
DTEND:20260129T210000Z
STATUS:CONFIRMED
SUMMARY:Mülakat
END:VEVENT
BEGIN:VEVENT
UID:b67fbbd4-28fb-4fa8-5223-08de9f183112
DTSTAMP:20260420T200724Z
TRANSP:TRANSPARENT
DTSTART:20260201T210000Z
DTEND:20260201T210000Z
STATUS:CONFIRMED
SUMMARY:Mülakat Sonuçlarının (Mülakat Komisyonu Tarafından) Öğren
 ci Bilgi Sistemine Son Giriş Tarihi
END:VEVENT
BEGIN:VEVENT
UID:44beb4b8-0f29-4713-5224-08de9f183112
DTSTAMP:20260420T200724Z
TRANSP:TRANSPARENT
DTSTART:20260203T210000Z
DTEND:20260203T210000Z
STATUS:CONFIRMED
SUMMARY:Kazananların İlanı
END:VEVENT
BEGIN:VEVENT
UID:dca5c624-4e3d-4e3a-5225-08de9f183112
DTSTAMP:20260420T200724Z
TRANSP:TRANSPARENT
DTSTART:20260204T070000Z
DTEND:20260206T140000Z
STATUS:CONFIRMED
SUMMARY:Bahar Yarıyılı Danışman Onayı ile Web'den Ders Kayıtları 
 (Ders-Tez-Yeterlik)
END:VEVENT
BEGIN:VEVENT
UID:93625d6c-a63e-4a73-5226-08de9f183112
DTSTAMP:20260420T200724Z
TRANSP:TRANSPARENT
DTSTART:20260204T210000Z
DTEND:20260205T210000Z
STATUS:CONFIRMED
SUMMARY:Yeni Kayıt Yaptıracak Uluslararası Öğrencilerin Kesin Kayıt
 ları ve Öğrenim Ücretinin Yatırılması
END:VEVENT
BEGIN:VEVENT
UID:4ae89be4-d6a6-4d62-5227-08de9f183112
DTSTAMP:20260420T200724Z
TRANSP:TRANSPARENT
DTSTART:20260205T060000Z
DTEND:20260206T140000Z
STATUS:CONFIRMED
SUMMARY:Yeni Alınan Öğrencilerin Kesin Kayıtları (Online)
END:VEVENT
BEGIN:VEVENT
UID:a771aaed-042b-42c2-5228-08de9f183112
DTSTAMP:20260420T200724Z
TRANSP:TRANSPARENT
DTSTART:20260208T210000Z
DTEND:20260208T210000Z
STATUS:CONFIRMED
SUMMARY:Yedek Listelerin İlanı
END:VEVENT
BEGIN:VEVENT
UID:48ce9ea6-c421-44a0-5229-08de9f183112
DTSTAMP:20260420T200724Z
TRANSP:TRANSPARENT
DTSTART:20260208T210000Z
DTEND:20260208T210000Z
STATUS:CONFIRMED
SUMMARY:Bahar Yarıyılı Başlangıcı
END:VEVENT
BEGIN:VEVENT
UID:7e01cf4e-33ce-4db2-522a-08de9f183112
DTSTAMP:20260420T200724Z
TRANSP:TRANSPARENT
DTSTART:20260208T210000Z
DTEND:20260220T140000Z
STATUS:CONFIRMED
SUMMARY:Danışman Onayı ile Ders Planındaki Derslerden Birisini Bırak
 ıp Bir Başka Derse Yazılma
END:VEVENT
BEGIN:VEVENT
UID:72b3cfaa-d880-44e8-522b-08de9f183112
DTSTAMP:20260420T200724Z
TRANSP:TRANSPARENT
DTSTART:20260208T210000Z
DTEND:20260226T210000Z
STATUS:CONFIRMED
SUMMARY:Doktora Yeterlik Dersine Kayıtlı Öğrencilerin Yeterlik Sınav
 ına Başvurusu
END:VEVENT
BEGIN:VEVENT
UID:0fbedef6-fde8-4106-522c-08de9f183112
DTSTAMP:20260420T200724Z
TRANSP:TRANSPARENT
DTSTART:20260209T070000Z
DTEND:20260213T140000Z
STATUS:CONFIRMED
SUMMARY:Gecikmeli Kayıt Yenilemesi - (Öğrenci Katkı Payını Zamanın
 da Yatırmayan ve/veya Ders Kaydını Zamanında Yaptırmayan Öğrencil
 er İçin)
END:VEVENT
BEGIN:VEVENT
UID:d17c94c5-ea81-4f65-522d-08de9f183112
DTSTAMP:20260420T200724Z
TRANSP:TRANSPARENT
DTSTART:20260210T060000Z
DTEND:20260210T140000Z
STATUS:CONFIRMED
SUMMARY:Kayıt Yaptırmayanların Yerine Yedek Kayıt
END:VEVENT
BEGIN:VEVENT
UID:16796549-5d1a-4673-522e-08de9f183112
DTSTAMP:20260420T200724Z
TRANSP:TRANSPARENT
DTSTART:20260210T210000Z
DTEND:20260210T210000Z
STATUS:CONFIRMED
SUMMARY:Lisansüstü öğrencileri için Oryantasyon
END:VEVENT
BEGIN:VEVENT
UID:04e2c2d1-0f4a-4de6-522f-08de9f183112
DTSTAMP:20260420T200724Z
TRANSP:TRANSPARENT
DTSTART:20260215T210000Z
DTEND:20260215T210000Z
STATUS:CONFIRMED
SUMMARY:Kapatılacak Derslerin Bildirilmesi
END:VEVENT
BEGIN:VEVENT
UID:f195d179-c927-414b-5230-08de9f183112
DTSTAMP:20260420T200724Z
TRANSP:TRANSPARENT
DTSTART:20260223T070000Z
DTEND:20260227T140000Z
STATUS:CONFIRMED
SUMMARY:Danışman Onayı ile Bir Dersten Tümüyle Çekilme (Öğrenim B
 elgesinde (T) Harfi İle Gösterilecektir.)
END:VEVENT
BEGIN:VEVENT
UID:cea132ec-5c3a-4d9a-5231-08de9f183112
DTSTAMP:20260420T200724Z
TRANSP:TRANSPARENT
DTSTART:20260301T210000Z
DTEND:20260629T210000Z
STATUS:CONFIRMED
SUMMARY:Doktora Öğrencilerinin Ocak-Haziran Dönemi Tez Öneri/Tez İzl
 eme Raporlarının Lisansüstü Eğitim Enstitüsüne Teslimi
END:VEVENT
BEGIN:VEVENT
UID:97480f90-04df-4985-5232-08de9f183112
DTSTAMP:20260420T200724Z
TRANSP:TRANSPARENT
DTSTART:20260308T210000Z
DTEND:20260312T210000Z
STATUS:CONFIRMED
SUMMARY:Yeni Kayıt Yaptıran Uluslararası Öğrencilerin Evrak Asıllar
 ını Teslim Etmesi
END:VEVENT
BEGIN:VEVENT
UID:c83b2bf7-a848-4c72-5233-08de9f183112
DTSTAMP:20260420T200724Z
TRANSP:TRANSPARENT
DTSTART:20260315T210000Z
DTEND:20260319T210000Z
STATUS:CONFIRMED
SUMMARY:Ara Tatil
END:VEVENT
BEGIN:VEVENT
UID:002ed245-0d1d-4d37-5234-08de9f183112
DTSTAMP:20260420T200724Z
TRANSP:TRANSPARENT
DTSTART:20260419T210000Z
DTEND:20260419T210000Z
STATUS:CONFIRMED
SUMMARY:Bahar Yarıyılı Sınav Programlarının İlanı
END:VEVENT
BEGIN:VEVENT
UID:a4c0d1cf-b55f-4685-5235-08de9f183112
DTSTAMP:20260420T200724Z
TRANSP:TRANSPARENT
DTSTART:20260426T210000Z
DTEND:20260521T210000Z
STATUS:CONFIRMED
SUMMARY:Doktora  Yeterlik Sınavları
END:VEVENT
BEGIN:VEVENT
UID:d888f2b6-da15-4902-5236-08de9f183112
DTSTAMP:20260420T200724Z
TRANSP:TRANSPARENT
DTSTART:20260521T210000Z
DTEND:20260521T210000Z
STATUS:CONFIRMED
SUMMARY:Bahar Yarıyılı Sonu
END:VEVENT
BEGIN:VEVENT
UID:2b38231a-fcf5-4939-5237-08de9f183112
DTSTAMP:20260420T200724Z
TRANSP:TRANSPARENT
DTSTART:20260531T210000Z
DTEND:20260613T210000Z
STATUS:CONFIRMED
SUMMARY:Bahar Yarıyılı Sonu Sınavları
END:VEVENT
BEGIN:VEVENT
UID:f8c6fb4f-a885-4fa5-5238-08de9f183112
DTSTAMP:20260420T200724Z
TRANSP:TRANSPARENT
DTSTART:20260621T110000Z
DTEND:20260621T110000Z
STATUS:CONFIRMED
SUMMARY:Bahar Yarıyılı Sınav Notlarının Son Giriş Tarihi
END:VEVENT
BEGIN:VEVENT
UID:a11dcdd6-8cc0-4e7e-5239-08de9f183112
DTSTAMP:20260420T200724Z
TRANSP:TRANSPARENT
DTSTART:20260701T210000Z
DTEND:20260701T210000Z
STATUS:CONFIRMED
SUMMARY:Doktora Mezuniyet Töreni
END:VEVENT
BEGIN:VEVENT
UID:4f18a784-4d69-47be-523a-08de9f183112
DTSTAMP:20260420T200724Z
TRANSP:TRANSPARENT
DTSTART:20260703T210000Z
DTEND:20260703T210000Z
STATUS:CONFIRMED
SUMMARY:Lisans ve Yüksek Lisans Mezuniyet Töreni
END:VEVENT
BEGIN:VEVENT
UID:5a6d85aa-de2f-4366-523b-08de9f183112
DTSTAMP:20260420T200724Z
TRANSP:TRANSPARENT
DTSTART:20260827T210000Z
DTEND:20260827T210000Z
STATUS:CONFIRMED
SUMMARY:Bahar Yarıyılı Sonunda Azami Öğrenim Süresi Sona Erecek Lis
 ansüstü Öğrenciler için Tez Teslimi Son Tarihi
END:VEVENT
END:VCALENDAR
