BEGIN:VCALENDAR
VERSION:2.0
PRODID:itakvim.com
CALSCALE:GREGORIAN
METHOD:PUBLISH
UID:oli6zrokpc5
X-WR-CALNAME:Uşak Kemal Öz Çok Amaçlı Fuar Alanı Takvimi
X-ITAKVIM-LANGUAGE:tr
X-ORIGINAL-URL:itakvim.com
REFRESH-INTERVAL;VALUE=DURATION:PT1H
X-ITAKVIM-REGION:TR
X-Robots-Tag:noindex
X-PUBLISHED-TTL:PT1H
BEGIN:VEVENT
UID:c78d119f-ce5a-4abd-532e-08de9f183112
DTSTAMP:20260420T200816Z
TRANSP:TRANSPARENT
DTSTART:20260917T060000Z
DTEND:20260920T150000Z
STATUS:CONFIRMED
SUMMARY:Uşak 11. Ege Tarım Ve Hayvancılık, Süt Teknolojileri, Çiftl
 ik Ekipmanları, Tarım Makineleri, Sera Teknolojileri Fuarı
DESCRIPTION:Gl Platform Fuar Hizmetleri Limited Şirketi tarafından düz
 enlenen tarım\, hayvancılık\, makine teknolojileri konulu fuarda gör
 üşmek üzere: \n\nWeb:www.glplatformfuar.com\nE-Posta: info@glplatform
 fuar.com
LOCATION:Kemal Öz Çok Amaçlı Fuar Alanı
BEGIN:VALARM
ACTION:DISPLAY
DESCRIPTION:Uşak 11. Ege Tarım Ve Hayvancılık, Süt Teknolojileri, Ç
 iftlik Ekipmanları, Tarım Makineleri, Sera Teknolojileri Fuarı
TRIGGER:-PT24H
END:VALARM
END:VEVENT
END:VCALENDAR
