BEGIN:VCALENDAR
VERSION:2.0
PRODID:itakvim.com
CALSCALE:GREGORIAN
METHOD:PUBLISH
UID:pamb9bdamul
X-WR-CALNAME:Özel İletişim Vergisi
X-ITAKVIM-LANGUAGE:tr
X-ORIGINAL-URL:itakvim.com
REFRESH-INTERVAL;VALUE=DURATION:PT1H
X-ITAKVIM-REGION:TR
X-Robots-Tag:noindex
X-PUBLISHED-TTL:PT1H
BEGIN:VEVENT
UID:87c887cb-f366-424b-de98-08de9748e6b5
DTSTAMP:20260414T210018Z
TRANSP:TRANSPARENT
DTSTART:20260401T060000Z
DTEND:20260401T060000Z
STATUS:CONFIRMED
SUMMARY:Mart 2026 Dönemine Ait Özel İletişim Vergisinin Beyanı ve Ö
 demesi Başlangıç
DESCRIPTION:Mart 2026 Dönemi Özel İletişim Vergisi Beyan ve Ödemesi
BEGIN:VALARM
ACTION:DISPLAY
DESCRIPTION:Mart 2026 Dönemine Ait Özel İletişim Vergisinin Beyanı v
 e Ödemesi Başlangıç
TRIGGER:PT0S
END:VALARM
END:VEVENT
BEGIN:VEVENT
UID:8c64b84f-769a-425e-de99-08de9748e6b5
DTSTAMP:20260414T210018Z
TRANSP:TRANSPARENT
DTSTART:20260415T140000Z
DTEND:20260415T140000Z
STATUS:CONFIRMED
SUMMARY:Mart 2026 Dönemi Özel İletişim Vergisi Beyan ve Ödemesi Son 
 Gün
DESCRIPTION:Mart 2026 Dönemine Ait Özel İletişim Vergisinin Beyanı v
 e Ödemesi
BEGIN:VALARM
ACTION:DISPLAY
DESCRIPTION:Mart 2026 Dönemi Özel İletişim Vergisi Beyan ve Ödemesi 
 Son Gün
TRIGGER:-PT8H
END:VALARM
END:VEVENT
BEGIN:VEVENT
UID:bf82ad1d-ffc3-4554-de9a-08de9748e6b5
DTSTAMP:20260414T210018Z
TRANSP:TRANSPARENT
DTSTART:20260401T060000Z
DTEND:20260401T060000Z
STATUS:CONFIRMED
SUMMARY:Mart 2026 Dönemine Ait Özel İletişim Vergisinin Beyanı ve Ö
 demesi Başlangıç
DESCRIPTION:Mart 2026 Dönemi Özel İletişim Vergisi Beyan ve Ödemesi
BEGIN:VALARM
ACTION:DISPLAY
DESCRIPTION:Mart 2026 Dönemine Ait Özel İletişim Vergisinin Beyanı v
 e Ödemesi Başlangıç
TRIGGER:PT0S
END:VALARM
END:VEVENT
BEGIN:VEVENT
UID:636d4818-52a2-4e5b-de9b-08de9748e6b5
DTSTAMP:20260414T210018Z
TRANSP:TRANSPARENT
DTSTART:20260415T140000Z
DTEND:20260415T140000Z
STATUS:CONFIRMED
SUMMARY:Mart 2026 Dönemi Özel İletişim Vergisi Beyan ve Ödemesi Son 
 Gün
DESCRIPTION:Mart 2026 Dönemine Ait Özel İletişim Vergisinin Beyanı v
 e Ödemesi
BEGIN:VALARM
ACTION:DISPLAY
DESCRIPTION:Mart 2026 Dönemi Özel İletişim Vergisi Beyan ve Ödemesi 
 Son Gün
TRIGGER:-PT8H
END:VALARM
END:VEVENT
END:VCALENDAR
