BEGIN:VCALENDAR
VERSION:2.0
PRODID:itakvim.com
CALSCALE:GREGORIAN
METHOD:PUBLISH
UID:pdztig4fln7
X-WR-CALNAME:Kaya İzmir Thermal & Convention Hotel Takvimi
X-ITAKVIM-LANGUAGE:tr
X-ORIGINAL-URL:itakvim.com
REFRESH-INTERVAL;VALUE=DURATION:PT1H
X-ITAKVIM-REGION:TR
X-Robots-Tag:noindex
X-PUBLISHED-TTL:PT1H
BEGIN:VEVENT
UID:3230a17b-72e7-46b4-abfc-08de8dc98ad6
DTSTAMP:20260329T193014Z
TRANSP:TRANSPARENT
DTSTART:20260611T060000Z
DTEND:20260613T150000Z
STATUS:CONFIRMED
SUMMARY:İzsf-1. İzmir Sigorta Fuarı Ve Sektör Buluşması
DESCRIPTION:İzfaş İzmir Fuarcılık Hizmetleri Kültür Ve Sanat İşl
 eri Ticaret Anonim Şirketi tarafından düzenlenen sigortacılık hizme
 tleri konulu fuarda görüşmek üzere: \n\nWeb:www.izfas.com.tr\nE-Post
 a: muhasebe@izmirfair.com.tr
LOCATION:Kaya İzmir Thermal & Convention Hotel
BEGIN:VALARM
ACTION:DISPLAY
DESCRIPTION:İzsf-1. İzmir Sigorta Fuarı Ve Sektör Buluşması
TRIGGER:-PT24H
END:VALARM
END:VEVENT
END:VCALENDAR
