BEGIN:VCALENDAR
VERSION:2.0
PRODID:itakvim.com
CALSCALE:GREGORIAN
METHOD:PUBLISH
UID:pis4kktyw7y
X-WR-CALNAME:Mardin Fuar Alanı Takvimi
X-ITAKVIM-LANGUAGE:tr
X-ORIGINAL-URL:itakvim.com
REFRESH-INTERVAL;VALUE=DURATION:PT1H
X-ITAKVIM-REGION:TR
X-Robots-Tag:noindex
X-PUBLISHED-TTL:PT1H
BEGIN:VEVENT
UID:0c6356d8-c76d-4905-5331-08de9f183112
DTSTAMP:20260420T200817Z
TRANSP:TRANSPARENT
DTSTART:20261015T060000Z
DTEND:20261018T150000Z
STATUS:CONFIRMED
SUMMARY:12. Magrotex'26 Uluslararası Mardin Tarım Ekipmanları Gıda Ve
  Hayvancılık Fuarı
DESCRIPTION:Zümrüt Fuarcılık Tan. Org. San. Ve Tic. Ltd. Şti. taraf
 ından düzenlenen tarım gıda ve hayvancılık endüstrisi ve teknoloj
 ileri konulu fuarda görüşmek üzere: \n\nWeb:www.zumrutfuarcilik.com.
 tr\nE-Posta: info@zumrutfuarcilik.com.tr
LOCATION:Mardin Fuar Alanı
BEGIN:VALARM
ACTION:DISPLAY
DESCRIPTION:12. Magrotex'26 Uluslararası Mardin Tarım Ekipmanları Gıd
 a Ve Hayvancılık Fuarı
TRIGGER:-PT24H
END:VALARM
END:VEVENT
END:VCALENDAR
