BEGIN:VCALENDAR
VERSION:2.0
PRODID:itakvim.com
CALSCALE:GREGORIAN
METHOD:PUBLISH
UID:pqqv3alkk8q
X-WR-CALNAME:Eğlence Vergisi
X-ITAKVIM-LANGUAGE:tr
X-ORIGINAL-URL:itakvim.com
REFRESH-INTERVAL;VALUE=DURATION:PT1H
X-ITAKVIM-REGION:TR
X-Robots-Tag:noindex
X-PUBLISHED-TTL:PT1H
BEGIN:VEVENT
UID:3c05cbf5-5c8a-4b72-5042-08de9f183112
DTSTAMP:20260420T200618Z
TRANSP:TRANSPARENT
DTSTART:20260401T060000Z
DTEND:20260401T060000Z
STATUS:CONFIRMED
SUMMARY:Mart 2026 Dönemine Ait Diğer Eğlence Vergilerine İlişkin Eğ
 lence Vergisinin Ödemesi Başlangıç
DESCRIPTION:Mart 2026 Dönemi Diğer Eğlence Vergilerine İlişkin Eğle
 nce Vergisinin Ödemesi
BEGIN:VALARM
ACTION:DISPLAY
DESCRIPTION:Mart 2026 Dönemine Ait Diğer Eğlence Vergilerine İlişkin
  Eğlence Vergisinin Ödemesi Başlangıç
TRIGGER:PT0S
END:VALARM
END:VEVENT
BEGIN:VEVENT
UID:4d041497-bb14-4791-5043-08de9f183112
DTSTAMP:20260420T200618Z
TRANSP:TRANSPARENT
DTSTART:20260420T140000Z
DTEND:20260420T140000Z
STATUS:CONFIRMED
SUMMARY:Mart 2026 Dönemi Diğer Eğlence Vergilerine İlişkin Eğlence 
 Vergisinin Ödemesi Son Gün
DESCRIPTION:Mart 2026 Dönemine Ait Diğer Eğlence Vergilerine İlişkin
  Eğlence Vergisinin Ödemesi
BEGIN:VALARM
ACTION:DISPLAY
DESCRIPTION:Mart 2026 Dönemi Diğer Eğlence Vergilerine İlişkin Eğle
 nce Vergisinin Ödemesi Son Gün
TRIGGER:-PT8H
END:VALARM
END:VEVENT
BEGIN:VEVENT
UID:95e91f91-1fce-4cbe-5044-08de9f183112
DTSTAMP:20260420T200618Z
TRANSP:TRANSPARENT
DTSTART:20260401T060000Z
DTEND:20260401T060000Z
STATUS:CONFIRMED
SUMMARY:Mart 2026 Dönemine Ait Müşterek Bahislere İlişkin Eğlence V
 ergisinin Beyanı ve Ödemesi Başlangıç
DESCRIPTION:Mart 2026 Dönemi Müşterek Bahislere İlişkin Eğlence Ver
 gisi Beyan ve Ödemesi
BEGIN:VALARM
ACTION:DISPLAY
DESCRIPTION:Mart 2026 Dönemine Ait Müşterek Bahislere İlişkin Eğlen
 ce Vergisinin Beyanı ve Ödemesi Başlangıç
TRIGGER:PT0S
END:VALARM
END:VEVENT
BEGIN:VEVENT
UID:58509673-fc40-41c7-5045-08de9f183112
DTSTAMP:20260420T200618Z
TRANSP:TRANSPARENT
DTSTART:20260420T140000Z
DTEND:20260420T140000Z
STATUS:CONFIRMED
SUMMARY:Mart 2026 Dönemi Müşterek Bahislere İlişkin Eğlence Vergisi
  Beyan ve Ödemesi Son Gün
DESCRIPTION:Mart 2026 Dönemine Ait Müşterek Bahislere İlişkin Eğlen
 ce Vergisinin Beyanı ve Ödemesi
BEGIN:VALARM
ACTION:DISPLAY
DESCRIPTION:Mart 2026 Dönemi Müşterek Bahislere İlişkin Eğlence Ver
 gisi Beyan ve Ödemesi Son Gün
TRIGGER:-PT8H
END:VALARM
END:VEVENT
BEGIN:VEVENT
UID:408c4f08-0357-4e29-5046-08de9f183112
DTSTAMP:20260420T200618Z
TRANSP:TRANSPARENT
DTSTART:20260401T060000Z
DTEND:20260401T060000Z
STATUS:CONFIRMED
SUMMARY:Mart 2026 Dönemine Ait Diğer Eğlence Vergilerine İlişkin Eğ
 lence Vergisinin Ödemesi Başlangıç
DESCRIPTION:Mart 2026 Dönemi Diğer Eğlence Vergilerine İlişkin Eğle
 nce Vergisinin Ödemesi
BEGIN:VALARM
ACTION:DISPLAY
DESCRIPTION:Mart 2026 Dönemine Ait Diğer Eğlence Vergilerine İlişkin
  Eğlence Vergisinin Ödemesi Başlangıç
TRIGGER:PT0S
END:VALARM
END:VEVENT
BEGIN:VEVENT
UID:1a6836aa-4397-4b5c-5047-08de9f183112
DTSTAMP:20260420T200618Z
TRANSP:TRANSPARENT
DTSTART:20260420T140000Z
DTEND:20260420T140000Z
STATUS:CONFIRMED
SUMMARY:Mart 2026 Dönemi Diğer Eğlence Vergilerine İlişkin Eğlence 
 Vergisinin Ödemesi Son Gün
DESCRIPTION:Mart 2026 Dönemine Ait Diğer Eğlence Vergilerine İlişkin
  Eğlence Vergisinin Ödemesi
BEGIN:VALARM
ACTION:DISPLAY
DESCRIPTION:Mart 2026 Dönemi Diğer Eğlence Vergilerine İlişkin Eğle
 nce Vergisinin Ödemesi Son Gün
TRIGGER:-PT8H
END:VALARM
END:VEVENT
BEGIN:VEVENT
UID:766597e4-06b1-4660-5048-08de9f183112
DTSTAMP:20260420T200618Z
TRANSP:TRANSPARENT
DTSTART:20260401T060000Z
DTEND:20260401T060000Z
STATUS:CONFIRMED
SUMMARY:Mart 2026 Dönemine Ait Müşterek Bahislere İlişkin Eğlence V
 ergisinin Beyanı ve Ödemesi Başlangıç
DESCRIPTION:Mart 2026 Dönemi Müşterek Bahislere İlişkin Eğlence Ver
 gisi Beyan ve Ödemesi
BEGIN:VALARM
ACTION:DISPLAY
DESCRIPTION:Mart 2026 Dönemine Ait Müşterek Bahislere İlişkin Eğlen
 ce Vergisinin Beyanı ve Ödemesi Başlangıç
TRIGGER:PT0S
END:VALARM
END:VEVENT
BEGIN:VEVENT
UID:818e604c-458a-4b25-5049-08de9f183112
DTSTAMP:20260420T200618Z
TRANSP:TRANSPARENT
DTSTART:20260420T140000Z
DTEND:20260420T140000Z
STATUS:CONFIRMED
SUMMARY:Mart 2026 Dönemi Müşterek Bahislere İlişkin Eğlence Vergisi
  Beyan ve Ödemesi Son Gün
DESCRIPTION:Mart 2026 Dönemine Ait Müşterek Bahislere İlişkin Eğlen
 ce Vergisinin Beyanı ve Ödemesi
BEGIN:VALARM
ACTION:DISPLAY
DESCRIPTION:Mart 2026 Dönemi Müşterek Bahislere İlişkin Eğlence Ver
 gisi Beyan ve Ödemesi Son Gün
TRIGGER:-PT8H
END:VALARM
END:VEVENT
END:VCALENDAR
