BEGIN:VCALENDAR
VERSION:2.0
PRODID:itakvim.com
CALSCALE:GREGORIAN
METHOD:PUBLISH
UID:prynwe7cgsx
X-WR-CALNAME:Antalya Kumluca Belediyesi Fuar Ve Sergi Alanı Takvimi
X-ITAKVIM-LANGUAGE:tr
X-ORIGINAL-URL:itakvim.com
REFRESH-INTERVAL;VALUE=DURATION:PT1H
X-ITAKVIM-REGION:TR
X-Robots-Tag:noindex
X-PUBLISHED-TTL:PT1H
BEGIN:VEVENT
UID:ee59ac9c-b9b6-4c72-8d5a-08de9dec68b5
DTSTAMP:20260419T083022Z
TRANSP:TRANSPARENT
DTSTART:20260211T060000Z
DTEND:20260213T150000Z
STATUS:CONFIRMED
SUMMARY:Tarım,Seracılık,Gıda,Ve Tarım Makineleri İhtisas Fuarı
DESCRIPTION:Marmaris Fuarcılık Organizasyon Halkla İlişkiler Basın Y
 ayın Limited Şirketi tarafından düzenlenen tarım\,seracılık\,gıd
 a\,ve tarım makineleri İhtisas fuarı konulu fuarda görüşmek üzere
 : \n\nWeb:www.marfo.com.tr\nE-Posta: volkan@marfo.com.tr
LOCATION:Kumluca Belediyesi Fuar Ve Sergi Alanı
BEGIN:VALARM
ACTION:DISPLAY
DESCRIPTION:Tarım,Seracılık,Gıda,Ve Tarım Makineleri İhtisas Fuarı
TRIGGER:-PT24H
END:VALARM
END:VEVENT
END:VCALENDAR
