BEGIN:VCALENDAR
VERSION:2.0
PRODID:itakvim.com
CALSCALE:GREGORIAN
METHOD:PUBLISH
UID:pz96rtlqf88
X-WR-CALNAME:e-YÖKDİL Sınav Takvimi
X-ITAKVIM-LANGUAGE:tr
X-ORIGINAL-URL:itakvim.com
REFRESH-INTERVAL;VALUE=DURATION:PT1H
X-ITAKVIM-REGION:TR
X-Robots-Tag:noindex
X-PUBLISHED-TTL:PT1H
BEGIN:VEVENT
UID:0162bb4f-d414-41aa-4f86-08de9f183112
DTSTAMP:20260420T200538Z
TRANSP:TRANSPARENT
DTSTART:20260515T210000Z
DTEND:20260515T210000Z
STATUS:CONFIRMED
SUMMARY:e-YÖKDİL Elektronik Yükseköğretim Kurumları Yabancı Dil S
 ınavı (e-YÖKDİL 2026/1 İngilizce-Sosyal Bilimler) ****** Sınav
END:VEVENT
BEGIN:VEVENT
UID:e5fbc157-c956-4657-4f87-08de9f183112
DTSTAMP:20260420T200538Z
TRANSP:TRANSPARENT
DTSTART:20260428T210000Z
DTEND:20260428T210000Z
STATUS:CONFIRMED
SUMMARY:e-YÖKDİL Elektronik Yükseköğretim Kurumları Yabancı Dil S
 ınavı (e-YÖKDİL 2026/1 İngilizce-Sosyal Bilimler) ****** Başvuru B
 aşlangıç
END:VEVENT
BEGIN:VEVENT
UID:8a06ad94-dcad-4653-4f88-08de9f183112
DTSTAMP:20260420T200538Z
TRANSP:TRANSPARENT
DTSTART:20260506T210000Z
DTEND:20260506T210000Z
STATUS:CONFIRMED
SUMMARY:e-YÖKDİL Elektronik Yükseköğretim Kurumları Yabancı Dil S
 ınavı (e-YÖKDİL 2026/1 İngilizce-Sosyal Bilimler) ****** Başvuru B
 itiş
END:VEVENT
BEGIN:VEVENT
UID:a792ff03-35f0-4207-4f89-08de9f183112
DTSTAMP:20260420T200538Z
TRANSP:TRANSPARENT
DTSTART:20260515T210000Z
DTEND:20260515T210000Z
STATUS:CONFIRMED
SUMMARY:e-YÖKDİL Elektronik Yükseköğretim Kurumları Yabancı Dil S
 ınavı (e-YÖKDİL 2026/1 İngilizce-Sosyal Bilimler) ****** Sonuç
END:VEVENT
BEGIN:VEVENT
UID:f23e3283-fb8d-4d0c-4f8a-08de9f183112
DTSTAMP:20260420T200538Z
TRANSP:TRANSPARENT
DTSTART:20260516T210000Z
DTEND:20260516T210000Z
STATUS:CONFIRMED
SUMMARY:e-YÖKDİL Elektronik Yükseköğretim Kurumları Yabancı Dil S
 ınavı (e-YÖKDİL 2026/2 İngilizce-Sağlık Bilimleri) ****** Sınav
END:VEVENT
BEGIN:VEVENT
UID:b8ad8945-199f-4a3d-4f8b-08de9f183112
DTSTAMP:20260420T200538Z
TRANSP:TRANSPARENT
DTSTART:20260428T210000Z
DTEND:20260428T210000Z
STATUS:CONFIRMED
SUMMARY:e-YÖKDİL Elektronik Yükseköğretim Kurumları Yabancı Dil S
 ınavı (e-YÖKDİL 2026/2 İngilizce-Sağlık Bilimleri) ****** Başvur
 u Başlangıç
END:VEVENT
BEGIN:VEVENT
UID:b9272543-468d-4739-4f8c-08de9f183112
DTSTAMP:20260420T200538Z
TRANSP:TRANSPARENT
DTSTART:20260506T210000Z
DTEND:20260506T210000Z
STATUS:CONFIRMED
SUMMARY:e-YÖKDİL Elektronik Yükseköğretim Kurumları Yabancı Dil S
 ınavı (e-YÖKDİL 2026/2 İngilizce-Sağlık Bilimleri) ****** Başvur
 u Bitiş
END:VEVENT
BEGIN:VEVENT
UID:44a2a91f-e168-49a7-4f8d-08de9f183112
DTSTAMP:20260420T200538Z
TRANSP:TRANSPARENT
DTSTART:20260516T210000Z
DTEND:20260516T210000Z
STATUS:CONFIRMED
SUMMARY:e-YÖKDİL Elektronik Yükseköğretim Kurumları Yabancı Dil S
 ınavı (e-YÖKDİL 2026/2 İngilizce-Sağlık Bilimleri) ****** Sonuç
END:VEVENT
BEGIN:VEVENT
UID:fef95daf-ea72-4669-4f8e-08de9f183112
DTSTAMP:20260420T200538Z
TRANSP:TRANSPARENT
DTSTART:20260605T210000Z
DTEND:20260605T210000Z
STATUS:CONFIRMED
SUMMARY:e-YÖKDİL Elektronik Yükseköğretim Kurumları Yabancı Dil S
 ınavı (e-YÖKDİL 2026/3 İngilizce-Fen Bilimleri) ****** Sınav
END:VEVENT
BEGIN:VEVENT
UID:bf68da5a-4e06-4895-4f8f-08de9f183112
DTSTAMP:20260420T200538Z
TRANSP:TRANSPARENT
DTSTART:20260428T210000Z
DTEND:20260428T210000Z
STATUS:CONFIRMED
SUMMARY:e-YÖKDİL Elektronik Yükseköğretim Kurumları Yabancı Dil S
 ınavı (e-YÖKDİL 2026/3 İngilizce-Fen Bilimleri) ****** Başvuru Ba
 şlangıç
END:VEVENT
BEGIN:VEVENT
UID:07b0fcb9-293d-40b0-4f90-08de9f183112
DTSTAMP:20260420T200538Z
TRANSP:TRANSPARENT
DTSTART:20260519T210000Z
DTEND:20260519T210000Z
STATUS:CONFIRMED
SUMMARY:e-YÖKDİL Elektronik Yükseköğretim Kurumları Yabancı Dil S
 ınavı (e-YÖKDİL 2026/3 İngilizce-Fen Bilimleri) ****** Başvuru Bit
 iş
END:VEVENT
BEGIN:VEVENT
UID:48df9787-6bee-45e2-4f91-08de9f183112
DTSTAMP:20260420T200538Z
TRANSP:TRANSPARENT
DTSTART:20260605T210000Z
DTEND:20260605T210000Z
STATUS:CONFIRMED
SUMMARY:e-YÖKDİL Elektronik Yükseköğretim Kurumları Yabancı Dil S
 ınavı (e-YÖKDİL 2026/3 İngilizce-Fen Bilimleri) ****** Sonuç
END:VEVENT
END:VCALENDAR
