BEGIN:VCALENDAR
VERSION:2.0
PRODID:itakvim.com
CALSCALE:GREGORIAN
METHOD:PUBLISH
UID:q8v4rdf1j2w
X-WR-CALNAME:Çevre Temizlik Vergisi
X-ITAKVIM-LANGUAGE:tr
X-ORIGINAL-URL:itakvim.com
REFRESH-INTERVAL;VALUE=DURATION:PT1H
X-ITAKVIM-REGION:TR
X-Robots-Tag:noindex
X-PUBLISHED-TTL:PT1H
BEGIN:VEVENT
UID:653144c9-0484-4773-d2e7-08de9f271cd7
DTSTAMP:20260420T215235Z
TRANSP:TRANSPARENT
DTSTART:20260301T060000Z
DTEND:20260301T060000Z
STATUS:CONFIRMED
SUMMARY:2026 Yılı Çevre Temizlik Vergisinin 1. Taksit Ödemesi Başlan
 gıç
DESCRIPTION:2026 Yılı 1. Taksit Çevre Temizlik Vergisinin Taksit Ödem
 esi
BEGIN:VALARM
ACTION:DISPLAY
DESCRIPTION:2026 Yılı Çevre Temizlik Vergisinin 1. Taksit Ödemesi Ba
 şlangıç
TRIGGER:PT0S
END:VALARM
END:VEVENT
BEGIN:VEVENT
UID:4cd10999-c91c-4eec-d2e8-08de9f271cd7
DTSTAMP:20260420T215235Z
TRANSP:TRANSPARENT
DTSTART:20260601T140000Z
DTEND:20260601T140000Z
STATUS:CONFIRMED
SUMMARY:2026 Yılı 1. Taksit Çevre Temizlik Vergisinin Taksit Ödemesi 
 Son Gün
DESCRIPTION:2026 Yılı Çevre Temizlik Vergisinin 1. Taksit Ödemesi
BEGIN:VALARM
ACTION:DISPLAY
DESCRIPTION:2026 Yılı 1. Taksit Çevre Temizlik Vergisinin Taksit Ödem
 esi Son Gün
TRIGGER:-PT8H
END:VALARM
END:VEVENT
END:VCALENDAR
