BEGIN:VCALENDAR
VERSION:2.0
PRODID:itakvim.com
CALSCALE:GREGORIAN
METHOD:PUBLISH
UID:qa8tzrda0yu
X-WR-CALNAME:İstanbul Wow Hotels & Conventıon Center Takvimi
X-ITAKVIM-LANGUAGE:tr
X-ORIGINAL-URL:itakvim.com
REFRESH-INTERVAL;VALUE=DURATION:PT1H
X-ITAKVIM-REGION:TR
X-Robots-Tag:noindex
X-PUBLISHED-TTL:PT1H
BEGIN:VEVENT
UID:5faf7a12-232e-48f6-5332-08de9f183112
DTSTAMP:20260420T200817Z
TRANSP:TRANSPARENT
DTSTART:20261028T060000Z
DTEND:20261031T150000Z
STATUS:CONFIRMED
SUMMARY:Ibıa Expo - 6. Uluslararası Yatak Yan Sanayi Ve Teknolojileri F
 uarı
DESCRIPTION:Birleşik Fuar Yapım Anonim Şirketi tarafından düzenlenen
  yatak yan sanayi ve teknolojileri konulu fuarda görüşmek üzere: \n\
 nWeb:www.bifasfuar.com\nE-Posta: info@bifasfuar.com
LOCATION:Wow Hotels & Conventıon Center
BEGIN:VALARM
ACTION:DISPLAY
DESCRIPTION:Ibıa Expo - 6. Uluslararası Yatak Yan Sanayi Ve Teknolojile
 ri Fuarı
TRIGGER:-PT24H
END:VALARM
END:VEVENT
END:VCALENDAR
