BEGIN:VCALENDAR
VERSION:2.0
PRODID:itakvim.com
CALSCALE:GREGORIAN
METHOD:PUBLISH
UID:qhhumi1punx
X-WR-CALNAME:Bursa İnegöl Hikmet Şahin Kültür Parkı Uluslararası Fuar Alanı Takvimi
X-ITAKVIM-LANGUAGE:tr
X-ORIGINAL-URL:itakvim.com
REFRESH-INTERVAL;VALUE=DURATION:PT1H
X-ITAKVIM-REGION:TR
X-Robots-Tag:noindex
X-PUBLISHED-TTL:PT1H
BEGIN:VEVENT
UID:f2b942b8-5930-40ee-5333-08de9f183112
DTSTAMP:20260420T200817Z
TRANSP:TRANSPARENT
DTSTART:20261013T060000Z
DTEND:20261017T150000Z
STATUS:CONFIRMED
SUMMARY:(Modef Expo 2026) 55.Uluslararası Mobilya Ve Dekorasyon Fuarı
DESCRIPTION:Modef Fuarcılık Ticaret Limited Şirketi tarafından düzen
 lenen mobilya ve dekorasyon konulu fuarda görüşmek üzere: \n\nWeb:ww
 w.modef.com.tr\nE-Posta: info@modef.com.tr
LOCATION:İnegöl Hikmet Şahin Kültür Parkı Uluslararası Fuar Alanı
BEGIN:VALARM
ACTION:DISPLAY
DESCRIPTION:(Modef Expo 2026) 55.Uluslararası Mobilya Ve Dekorasyon Fuar
 ı
TRIGGER:-PT24H
END:VALARM
END:VEVENT
END:VCALENDAR
