BEGIN:VCALENDAR
VERSION:2.0
PRODID:itakvim.com
CALSCALE:GREGORIAN
METHOD:PUBLISH
UID:qkhfklznwkq
X-WR-CALNAME:Natura Dünyasi Gençlerbirliği
X-ITAKVIM-LANGUAGE:tr
X-ORIGINAL-URL:itakvim.com
REFRESH-INTERVAL;VALUE=DURATION:PT1H
X-ITAKVIM-REGION:TR
X-Robots-Tag:noindex
X-PUBLISHED-TTL:PT1H
BEGIN:VEVENT
UID:27a29d27-7c44-4ca5-4675-08de6f3b2b0e
DTSTAMP:20260218T223334Z
TRANSP:TRANSPARENT
DTSTART:20260209T170000Z
DTEND:20260209T183000Z
STATUS:CONFIRMED
SUMMARY:FENERBAHÇE A.Ş. - NATURA DÜNYASI GENÇLERBİRLİĞİ
LOCATION:CHOBANI STADYUMU FB ŞÜKRÜ SARACOĞLU SPOR KOMPLEKSİ
END:VEVENT
BEGIN:VEVENT
UID:4de4a67d-6267-4c6f-4676-08de6f3b2b0e
DTSTAMP:20260218T223334Z
TRANSP:TRANSPARENT
DTSTART:20260214T113000Z
DTEND:20260214T130000Z
STATUS:CONFIRMED
SUMMARY:NATURA DÜNYASI GENÇLERBİRLİĞİ - ÇAYKUR RİZESPOR A.Ş.
LOCATION:ERYAMAN STADYUMU - ANKARA - ETİMESGUT
END:VEVENT
BEGIN:VEVENT
UID:68273613-4587-4634-4677-08de6f3b2b0e
DTSTAMP:20260218T223334Z
TRANSP:TRANSPARENT
DTSTART:20260221T103000Z
DTEND:20260221T120000Z
STATUS:CONFIRMED
SUMMARY:İKAS EYÜPSPOR - NATURA DÜNYASI GENÇLERBİRLİĞİ
LOCATION:RECEP TAYYİP ERDOĞAN STADYUMU - İSTANBUL
END:VEVENT
BEGIN:VEVENT
UID:f726fc71-f9cd-44af-4678-08de6f3b2b0e
DTSTAMP:20260218T223334Z
TRANSP:TRANSPARENT
DTSTART:20260301T130000Z
DTEND:20260301T143000Z
STATUS:CONFIRMED
SUMMARY:NATURA DÜNYASI GENÇLERBİRLİĞİ - ZECORNER KAYSERİSPOR
LOCATION:ERYAMAN STADYUMU - ANKARA
END:VEVENT
BEGIN:VEVENT
UID:0582031d-8bf1-4ad9-4679-08de6f3b2b0e
DTSTAMP:20260218T223334Z
TRANSP:TRANSPARENT
DTSTART:20260309T170000Z
DTEND:20260309T183000Z
STATUS:CONFIRMED
SUMMARY:CORENDON ALANYASPOR - NATURA DÜNYASI GENÇLERBİRLİĞİ
LOCATION:ALANYA OBA STADYUMU - ANTALYA
END:VEVENT
BEGIN:VEVENT
UID:8d8725b6-7c8d-41f3-467a-08de6f3b2b0e
DTSTAMP:20260218T223334Z
TRANSP:TRANSPARENT
DTSTART:20260314T210000Z
DTEND:20260314T223000Z
STATUS:CONFIRMED
SUMMARY:NATURA DÜNYASI GENÇLERBİRLİĞİ - BEŞİKTAŞ A.Ş.
LOCATION:ERYAMAN STADYUMU - ANKARA
END:VEVENT
BEGIN:VEVENT
UID:e8e21954-7d4c-4272-467b-08de6f3b2b0e
DTSTAMP:20260218T223334Z
TRANSP:TRANSPARENT
DTSTART:20260317T210000Z
DTEND:20260317T223000Z
STATUS:CONFIRMED
SUMMARY:TÜMOSAN KONYASPOR - NATURA DÜNYASI GENÇLERBİRLİĞİ
LOCATION:MEDAŞ KONYA BÜYÜKŞEHİR STADYUMU - KONYA
END:VEVENT
BEGIN:VEVENT
UID:70761f18-cbe9-4979-467c-08de6f3b2b0e
DTSTAMP:20260218T223334Z
TRANSP:TRANSPARENT
DTSTART:20260404T210000Z
DTEND:20260404T223000Z
STATUS:CONFIRMED
SUMMARY:NATURA DÜNYASI GENÇLERBİRLİĞİ - GÖZTEPE A.Ş.
LOCATION:ERYAMAN STADYUMU - ANKARA
END:VEVENT
BEGIN:VEVENT
UID:a6d54999-f2f7-4f6d-467d-08de6f3b2b0e
DTSTAMP:20260218T223334Z
TRANSP:TRANSPARENT
DTSTART:20260411T210000Z
DTEND:20260411T223000Z
STATUS:CONFIRMED
SUMMARY:RAMS BAŞAKŞEHİR FUTBOL KULÜBÜ - NATURA DÜNYASI GENÇLERBİR
 LİĞİ
LOCATION:BAŞAKŞEHİR FATİH TERİM - İSTANBUL
END:VEVENT
BEGIN:VEVENT
UID:a8e5af21-fc35-42a4-467e-08de6f3b2b0e
DTSTAMP:20260218T223334Z
TRANSP:TRANSPARENT
DTSTART:20260418T210000Z
DTEND:20260418T223000Z
STATUS:CONFIRMED
SUMMARY:NATURA DÜNYASI GENÇLERBİRLİĞİ - GALATASARAY A.Ş.
LOCATION:ERYAMAN STADYUMU - ANKARA
END:VEVENT
BEGIN:VEVENT
UID:2e41b75f-f084-49c2-467f-08de6f3b2b0e
DTSTAMP:20260218T223334Z
TRANSP:TRANSPARENT
DTSTART:20260425T210000Z
DTEND:20260425T223000Z
STATUS:CONFIRMED
SUMMARY:NATURA DÜNYASI GENÇLERBİRLİĞİ - KOCAELİSPOR
LOCATION:ERYAMAN STADYUMU - ANKARA
END:VEVENT
BEGIN:VEVENT
UID:a66131b0-b5e0-4b73-4680-08de6f3b2b0e
DTSTAMP:20260218T223334Z
TRANSP:TRANSPARENT
DTSTART:20260502T210000Z
DTEND:20260502T223000Z
STATUS:CONFIRMED
SUMMARY:MISIRLI.COM.TR FATİH KARAGÜMRÜK - NATURA DÜNYASI GENÇLERBİR
 LİĞİ
LOCATION:ATATÜRK OLİMPİYAT
END:VEVENT
BEGIN:VEVENT
UID:1a509387-7543-4fde-4681-08de6f3b2b0e
DTSTAMP:20260218T223334Z
TRANSP:TRANSPARENT
DTSTART:20260509T210000Z
DTEND:20260509T223000Z
STATUS:CONFIRMED
SUMMARY:NATURA DÜNYASI GENÇLERBİRLİĞİ - KASIMPAŞA A.Ş.
LOCATION:ERYAMAN STADYUMU - ANKARA
END:VEVENT
BEGIN:VEVENT
UID:11c44913-c5d3-4b4c-4682-08de6f3b2b0e
DTSTAMP:20260218T223334Z
TRANSP:TRANSPARENT
DTSTART:20260516T210000Z
DTEND:20260516T223000Z
STATUS:CONFIRMED
SUMMARY:TRABZONSPOR A.Ş. - NATURA DÜNYASI GENÇLERBİRLİĞİ
LOCATION:PAPARA PARK - TRABZON
END:VEVENT
END:VCALENDAR
