BEGIN:VCALENDAR
VERSION:2.0
PRODID:itakvim.com
CALSCALE:GREGORIAN
METHOD:PUBLISH
UID:qnef5rqfmoe
X-WR-CALNAME:İstanbul Haliç Kongre Merkezi Takvimi
X-ITAKVIM-LANGUAGE:tr
X-ORIGINAL-URL:itakvim.com
REFRESH-INTERVAL;VALUE=DURATION:PT1H
X-ITAKVIM-REGION:TR
X-Robots-Tag:noindex
X-PUBLISHED-TTL:PT1H
BEGIN:VEVENT
UID:4aeb60eb-d54b-4982-5334-08de9f183112
DTSTAMP:20260420T200816Z
TRANSP:TRANSPARENT
DTSTART:20260603T060000Z
DTEND:20260604T150000Z
STATUS:CONFIRMED
SUMMARY:24. Uluslararası İstanbul Perakende Fuarı
DESCRIPTION:Soysal Fuarcılık Tan. Org. Ltd.Şti. tarafından düzenlene
 n mağaza\, market\, restoran\,alışveriş merkezleri \,e-ticaret ve İ
 hracata yönelik ürün ve hizmetler ve alışveriş merkezi yatırımc
 ıları konulu fuarda görüşmek üzere: \n\nWeb:www.perakendegunleri.c
 om\nE-Posta: info@soysal.com.tr
LOCATION:Haliç Kongre Merkezi
BEGIN:VALARM
ACTION:DISPLAY
DESCRIPTION:24. Uluslararası İstanbul Perakende Fuarı
TRIGGER:-PT24H
END:VALARM
END:VEVENT
END:VCALENDAR
