BEGIN:VCALENDAR
VERSION:2.0
PRODID:itakvim.com
CALSCALE:GREGORIAN
METHOD:PUBLISH
UID:qs5buth2lr5
X-WR-CALNAME:DUS Sınav Takvimi
X-ITAKVIM-LANGUAGE:tr
X-ORIGINAL-URL:itakvim.com
REFRESH-INTERVAL;VALUE=DURATION:PT1H
X-ITAKVIM-REGION:TR
X-Robots-Tag:noindex
X-PUBLISHED-TTL:PT1H
BEGIN:VEVENT
UID:d60ae11c-3aa5-419c-4f92-08de9f183112
DTSTAMP:20260420T200538Z
TRANSP:TRANSPARENT
DTSTART:20260426T071500Z
DTEND:20260426T071500Z
STATUS:CONFIRMED
SUMMARY:DUS Diş Hekimliğinde Uzmanlık Eğitimi Giriş Sınavı 2026-DU
 S 1.Dönem Sınav
END:VEVENT
BEGIN:VEVENT
UID:9d7534d5-d304-4eae-4f93-08de9f183112
DTSTAMP:20260420T200538Z
TRANSP:TRANSPARENT
DTSTART:20260310T070000Z
DTEND:20260310T070000Z
STATUS:CONFIRMED
SUMMARY:DUS Diş Hekimliğinde Uzmanlık Eğitimi Giriş Sınavı 2026-DU
 S 1.Dönem Başvuru Başlangıç
END:VEVENT
BEGIN:VEVENT
UID:02cc1083-8871-440c-4f94-08de9f183112
DTSTAMP:20260420T200538Z
TRANSP:TRANSPARENT
DTSTART:20260317T205900Z
DTEND:20260317T205900Z
STATUS:CONFIRMED
SUMMARY:DUS Diş Hekimliğinde Uzmanlık Eğitimi Giriş Sınavı 2026-DU
 S 1.Dönem Başvuru Bitiş
END:VEVENT
BEGIN:VEVENT
UID:62c66018-1c4e-4a4a-4f95-08de9f183112
DTSTAMP:20260420T200538Z
TRANSP:TRANSPARENT
DTSTART:20260324T210000Z
DTEND:20260324T210000Z
STATUS:CONFIRMED
SUMMARY:DUS Diş Hekimliğinde Uzmanlık Eğitimi Giriş Sınavı 2026-DU
 S 1.Dönem Geç Başvuru Başlangıç
END:VEVENT
BEGIN:VEVENT
UID:49567f19-3bcd-4066-4f96-08de9f183112
DTSTAMP:20260420T200538Z
TRANSP:TRANSPARENT
DTSTART:20260325T205900Z
DTEND:20260325T205900Z
STATUS:CONFIRMED
SUMMARY:DUS Diş Hekimliğinde Uzmanlık Eğitimi Giriş Sınavı 2026-DU
 S 1.Dönem Geç Başvuru Bitiş
END:VEVENT
BEGIN:VEVENT
UID:17ab922a-d0af-4c0a-4f97-08de9f183112
DTSTAMP:20260420T200538Z
TRANSP:TRANSPARENT
DTSTART:20260521T210000Z
DTEND:20260521T210000Z
STATUS:CONFIRMED
SUMMARY:DUS Diş Hekimliğinde Uzmanlık Eğitimi Giriş Sınavı 2026-DU
 S 1.Dönem Sonuç
END:VEVENT
BEGIN:VEVENT
UID:e35c3425-f937-4e99-4f98-08de9f183112
DTSTAMP:20260420T200538Z
TRANSP:TRANSPARENT
DTSTART:20261031T210000Z
DTEND:20261031T210000Z
STATUS:CONFIRMED
SUMMARY:DUS Diş Hekimliğinde Uzmanlık Eğitimi Giriş Sınavı 2026-DU
 S 2.Dönem Sınav
END:VEVENT
BEGIN:VEVENT
UID:82ea2675-3693-4f55-4f99-08de9f183112
DTSTAMP:20260420T200538Z
TRANSP:TRANSPARENT
DTSTART:20260915T210000Z
DTEND:20260915T210000Z
STATUS:CONFIRMED
SUMMARY:DUS Diş Hekimliğinde Uzmanlık Eğitimi Giriş Sınavı 2026-DU
 S 2.Dönem Başvuru Başlangıç
END:VEVENT
BEGIN:VEVENT
UID:0e3c0ee3-29bf-4eda-4f9a-08de9f183112
DTSTAMP:20260420T200538Z
TRANSP:TRANSPARENT
DTSTART:20260923T210000Z
DTEND:20260923T210000Z
STATUS:CONFIRMED
SUMMARY:DUS Diş Hekimliğinde Uzmanlık Eğitimi Giriş Sınavı 2026-DU
 S 2.Dönem Başvuru Bitiş
END:VEVENT
BEGIN:VEVENT
UID:18bc52d0-ed5e-4e92-4f9b-08de9f183112
DTSTAMP:20260420T200538Z
TRANSP:TRANSPARENT
DTSTART:20260930T210000Z
DTEND:20260930T210000Z
STATUS:CONFIRMED
SUMMARY:DUS Diş Hekimliğinde Uzmanlık Eğitimi Giriş Sınavı 2026-DU
 S 2.Dönem Geç Başvuru Başlangıç
END:VEVENT
BEGIN:VEVENT
UID:0f95ccfd-81fc-4952-4f9c-08de9f183112
DTSTAMP:20260420T200538Z
TRANSP:TRANSPARENT
DTSTART:20261001T205900Z
DTEND:20261001T205900Z
STATUS:CONFIRMED
SUMMARY:DUS Diş Hekimliğinde Uzmanlık Eğitimi Giriş Sınavı 2026-DU
 S 2.Dönem Geç Başvuru Bitiş
END:VEVENT
BEGIN:VEVENT
UID:65968aa4-d833-4369-4f9d-08de9f183112
DTSTAMP:20260420T200538Z
TRANSP:TRANSPARENT
DTSTART:20261125T210000Z
DTEND:20261125T210000Z
STATUS:CONFIRMED
SUMMARY:DUS Diş Hekimliğinde Uzmanlık Eğitimi Giriş Sınavı 2026-DU
 S 2.Dönem Sonuç
END:VEVENT
END:VCALENDAR
