BEGIN:VCALENDAR
VERSION:2.0
PRODID:itakvim.com
CALSCALE:GREGORIAN
METHOD:PUBLISH
UID:quk30ytxcd3
X-WR-CALNAME:Türkiye Turizm Tanıtım ve Geliştirme Ajansı Hakkında Kanun
X-ITAKVIM-LANGUAGE:tr
X-ORIGINAL-URL:itakvim.com
REFRESH-INTERVAL;VALUE=DURATION:PT1H
X-ITAKVIM-REGION:TR
X-Robots-Tag:noindex
X-PUBLISHED-TTL:PT1H
BEGIN:VEVENT
UID:838e7f82-de6b-4b19-d2e9-08de9f271cd7
DTSTAMP:20260420T215235Z
TRANSP:TRANSPARENT
DTSTART:20260401T060000Z
DTEND:20260401T060000Z
STATUS:CONFIRMED
SUMMARY:Mart 2026 Dönemine Ait Kurumlar Vergisi Mükellefleri İçin Tur
 izm Payının Beyanı ve Ödemesi Başlangıç
DESCRIPTION:Mart 2026 Dönemi Kurumlar Vergisi Mükelleflerinin Turizm Pa
 yı Beyan ve Ödemesi
BEGIN:VALARM
ACTION:DISPLAY
DESCRIPTION:Mart 2026 Dönemine Ait Kurumlar Vergisi Mükellefleri İçin
  Turizm Payının Beyanı ve Ödemesi Başlangıç
TRIGGER:PT0S
END:VALARM
END:VEVENT
BEGIN:VEVENT
UID:c1af7233-f4c2-4400-d2ea-08de9f271cd7
DTSTAMP:20260420T215235Z
TRANSP:TRANSPARENT
DTSTART:20260430T140000Z
DTEND:20260430T140000Z
STATUS:CONFIRMED
SUMMARY:Mart 2026 Dönemi Kurumlar Vergisi Mükelleflerinin Turizm Payı 
 Beyan ve Ödemesi Son Gün
DESCRIPTION:Mart 2026 Dönemine Ait Kurumlar Vergisi Mükellefleri İçin
  Turizm Payının Beyanı ve Ödemesi
BEGIN:VALARM
ACTION:DISPLAY
DESCRIPTION:Mart 2026 Dönemi Kurumlar Vergisi Mükelleflerinin Turizm Pa
 yı Beyan ve Ödemesi Son Gün
TRIGGER:-PT8H
END:VALARM
END:VEVENT
BEGIN:VEVENT
UID:0465e126-faec-4312-d2eb-08de9f271cd7
DTSTAMP:20260420T215235Z
TRANSP:TRANSPARENT
DTSTART:20260401T060000Z
DTEND:20260401T060000Z
STATUS:CONFIRMED
SUMMARY:Ocak-Şubat-Mart 2026 Dönemine Ait Turizm Payının Beyanı ve 
 Ödemesi Başlangıç
DESCRIPTION:Ocak-Şubat-Mart 2026 Dönemi Turizm Payı Beyan ve Ödemesi
BEGIN:VALARM
ACTION:DISPLAY
DESCRIPTION:Ocak-Şubat-Mart 2026 Dönemine Ait Turizm Payının Beyanı 
 ve Ödemesi Başlangıç
TRIGGER:PT0S
END:VALARM
END:VEVENT
BEGIN:VEVENT
UID:b3b819ba-23b2-46b0-d2ec-08de9f271cd7
DTSTAMP:20260420T215235Z
TRANSP:TRANSPARENT
DTSTART:20260430T140000Z
DTEND:20260430T140000Z
STATUS:CONFIRMED
SUMMARY:Ocak-Şubat-Mart 2026 Dönemi Turizm Payı Beyan ve Ödemesi Son 
 Gün
DESCRIPTION:Ocak-Şubat-Mart 2026 Dönemine Ait Turizm Payının Beyanı 
 ve Ödemesi
BEGIN:VALARM
ACTION:DISPLAY
DESCRIPTION:Ocak-Şubat-Mart 2026 Dönemi Turizm Payı Beyan ve Ödemesi 
 Son Gün
TRIGGER:-PT8H
END:VALARM
END:VEVENT
END:VCALENDAR
