BEGIN:VCALENDAR
VERSION:2.0
PRODID:itakvim.com
CALSCALE:GREGORIAN
METHOD:PUBLISH
UID:r3x04xhisur
X-WR-CALNAME:Edirne Belediyesi Pazartesi Pazar Ve Fuar Alanı (Ulus Pazaryeri) Takvimi
X-ITAKVIM-LANGUAGE:tr
X-ORIGINAL-URL:itakvim.com
REFRESH-INTERVAL;VALUE=DURATION:PT1H
X-ITAKVIM-REGION:TR
X-Robots-Tag:noindex
X-PUBLISHED-TTL:PT1H
BEGIN:VEVENT
UID:819ba102-d928-4ed8-8d60-08de9dec68b5
DTSTAMP:20260419T083022Z
TRANSP:TRANSPARENT
DTSTART:20260412T060000Z
DTEND:20260415T150000Z
STATUS:CONFIRMED
SUMMARY:Edirne Tarım, Hayvancılık, Sanayi, Ticaret, Otomotiv Ve Gıda 
 Fuarı
DESCRIPTION:Renkli Fuarcılık Ltd. Şti. tarafından düzenlenen traktö
 r ve tarım ekipmanları\, otomobil\, hayvancılık\, gıda\, beyaz ve k
 ahverengi eşya\, elektronik aletler konulu fuarda görüşmek üzere: \
 n\nWeb:www.renklyfuar.com\nE-Posta: info@renklyfuar.com
LOCATION:Edirne Belediyesi Pazartesi Pazar Ve Fuar Alanı (Ulus Pazaryeri)
BEGIN:VALARM
ACTION:DISPLAY
DESCRIPTION:Edirne Tarım, Hayvancılık, Sanayi, Ticaret, Otomotiv Ve G
 ıda Fuarı
TRIGGER:-PT24H
END:VALARM
END:VEVENT
END:VCALENDAR
