BEGIN:VCALENDAR
VERSION:2.0
PRODID:itakvim.com
CALSCALE:GREGORIAN
METHOD:PUBLISH
UID:r437b0yy6dk
X-WR-CALNAME:İzmir Ödemiş Belediyesi Fuar Alanı Takvimi
X-ITAKVIM-LANGUAGE:tr
X-ORIGINAL-URL:itakvim.com
REFRESH-INTERVAL;VALUE=DURATION:PT1H
X-ITAKVIM-REGION:TR
X-Robots-Tag:noindex
X-PUBLISHED-TTL:PT1H
BEGIN:VEVENT
UID:124764e6-7b3a-4525-5336-08de9f183112
DTSTAMP:20260420T200816Z
TRANSP:TRANSPARENT
DTSTART:20260430T060000Z
DTEND:20260503T150000Z
STATUS:CONFIRMED
SUMMARY:3.Ödemiş Tarım, Hayvancılık Ve Makinaları Teknolojileri Fua
 rı
DESCRIPTION:Efr Fuarcılık Ve Organizasyon Ticaret Limited Şirketi tara
 fından düzenlenen tarım \,hayvancılık makinaları teknolojileri kon
 ulu fuarda görüşmek üzere: \n\nWeb:www.efrfairs.com\nE-Posta: muhamm
 ed@efrfaris.com
LOCATION:Ödemiş Belediyesi Fuar Alanı
BEGIN:VALARM
ACTION:DISPLAY
DESCRIPTION:3.Ödemiş Tarım, Hayvancılık Ve Makinaları Teknolojileri
  Fuarı
TRIGGER:-PT24H
END:VALARM
END:VEVENT
END:VCALENDAR
