BEGIN:VCALENDAR
VERSION:2.0
PRODID:itakvim.com
CALSCALE:GREGORIAN
METHOD:PUBLISH
UID:r6p3xpamc0x
X-WR-CALNAME:Hyatt Regency İzmir İstinyepark Takvimi
X-ITAKVIM-LANGUAGE:tr
X-ORIGINAL-URL:itakvim.com
REFRESH-INTERVAL;VALUE=DURATION:PT1H
X-ITAKVIM-REGION:TR
X-Robots-Tag:noindex
X-PUBLISHED-TTL:PT1H
BEGIN:VEVENT
UID:022d3d8c-1c94-4095-5337-08de9f183112
DTSTAMP:20260420T200816Z
TRANSP:TRANSPARENT
DTSTART:20260929T060000Z
DTEND:20260929T150000Z
STATUS:CONFIRMED
SUMMARY:İngiltere Eğitim Günleri Fuarı
DESCRIPTION:Edukas Yurtdışı Eğitim Danışmanlık Ticaret Limited Şi
 rketi tarafından düzenlenen İngiltere eğitim kurumları ve kariyer f
 uarı konulu fuarda görüşmek üzere: \n\nWeb:www.educationukdays.com\
 nE-Posta: gozde@edukas.com.tr
LOCATION:Hyatt Regency İzmir İstinyepark
BEGIN:VALARM
ACTION:DISPLAY
DESCRIPTION:İngiltere Eğitim Günleri Fuarı
TRIGGER:-PT24H
END:VALARM
END:VEVENT
END:VCALENDAR
