BEGIN:VCALENDAR
VERSION:2.0
PRODID:itakvim.com
CALSCALE:GREGORIAN
METHOD:PUBLISH
UID:re1d2uo8d7z
X-WR-CALNAME:Osmaniye Fuar Alanı Takvimi
X-ITAKVIM-LANGUAGE:tr
X-ORIGINAL-URL:itakvim.com
REFRESH-INTERVAL;VALUE=DURATION:PT1H
X-ITAKVIM-REGION:TR
X-Robots-Tag:noindex
X-PUBLISHED-TTL:PT1H
BEGIN:VEVENT
UID:bf5b3bab-2cf2-4791-ac0c-08de8dc98ad6
DTSTAMP:20260329T193014Z
TRANSP:TRANSPARENT
DTSTART:20260409T060000Z
DTEND:20260412T150000Z
STATUS:CONFIRMED
SUMMARY:3.Osmaniye Sanayi Ve Ticaret Fuarı
DESCRIPTION:Elka Fuarcılık Limited Şirketi tarafından düzenlenen san
 ayi ve ticaret konu olan ürün ve hizmetler konulu fuarda görüşmek 
 üzere: \n\nWeb:www.elkafuar.com\nE-Posta: bilgi@elkafuar.com
LOCATION:Osmaniye Fuar Alanı
BEGIN:VALARM
ACTION:DISPLAY
DESCRIPTION:3.Osmaniye Sanayi Ve Ticaret Fuarı
TRIGGER:-PT24H
END:VALARM
END:VEVENT
END:VCALENDAR
