BEGIN:VCALENDAR
VERSION:2.0
PRODID:itakvim.com
CALSCALE:GREGORIAN
METHOD:PUBLISH
UID:s1pcu2hrd38
X-WR-CALNAME:Mersin Yenişehir Fuar Merkezi Takvimi
X-ITAKVIM-LANGUAGE:tr
X-ORIGINAL-URL:itakvim.com
REFRESH-INTERVAL;VALUE=DURATION:PT1H
X-ITAKVIM-REGION:TR
X-Robots-Tag:noindex
X-PUBLISHED-TTL:PT1H
BEGIN:VEVENT
UID:0b9cb0fe-985c-4f5e-8d68-08de9dec68b5
DTSTAMP:20260419T083022Z
TRANSP:TRANSPARENT
DTSTART:20260114T060000Z
DTEND:20260117T150000Z
STATUS:CONFIRMED
SUMMARY:Akdeniz Tekstil Fuarı
DESCRIPTION:Kapital Expo Uluslararası Fuarcılık Limited Şirketi taraf
 ından düzenlenen hazır giyim\, tekstil\, yan sanayi konulu fuarda gö
 rüşmek üzere: \n\nWeb:www.medtexexpo.com\nE-Posta: info@kapitalexpo.c
 om
LOCATION:Mersin Yenişehir Fuar Merkezi
BEGIN:VALARM
ACTION:DISPLAY
DESCRIPTION:Akdeniz Tekstil Fuarı
TRIGGER:-PT24H
END:VALARM
END:VEVENT
END:VCALENDAR
