BEGIN:VCALENDAR
VERSION:2.0
PRODID:itakvim.com
CALSCALE:GREGORIAN
METHOD:PUBLISH
UID:s5z51vopzwd
X-WR-CALNAME:İBB Yenibosna Dr. Enver Ören Kültür Merkezi
X-ITAKVIM-LANGUAGE:tr
X-ORIGINAL-URL:itakvim.com
REFRESH-INTERVAL;VALUE=DURATION:PT1H
X-ITAKVIM-REGION:TR
X-Robots-Tag:noindex
X-PUBLISHED-TTL:PT1H
BEGIN:VEVENT
UID:661ecec6-46f1-4613-1511-08de56d3ce89
DTSTAMP:20260118T210229Z
TRANSP:TRANSPARENT
DTSTART:20260124T120000Z
DTEND:20260124T120000Z
STATUS:CONFIRMED
SUMMARY:Yatak Odası Komedisi
LOCATION:İBB Yenibosna Dr. Enver Ören Kültür Merkezi
END:VEVENT
BEGIN:VEVENT
UID:f4818642-601b-424c-1512-08de56d3ce89
DTSTAMP:20260118T210229Z
TRANSP:TRANSPARENT
DTSTART:20260124T170000Z
DTEND:20260124T170000Z
STATUS:CONFIRMED
SUMMARY:Yatak Odası Komedisi
LOCATION:İBB Yenibosna Dr. Enver Ören Kültür Merkezi
END:VEVENT
END:VCALENDAR
